BEGIN:VCALENDAR
VERSION:2.0
PRODID:-//wp-events-plugin.com//7.2.3.1//EN
TZID:Europe/Warsaw
X-WR-TIMEZONE:Europe/Warsaw
BEGIN:VEVENT
UID:33772@night4u.pl
DTSTART;TZID=Europe/Warsaw:20200229T183000
DTEND;TZID=Europe/Warsaw:20200229T213000
DTSTAMP:20200229T021855Z
URL:https://night4u.pl/wydarzenia/julia-marcell-29-02-2020-klub-stodola/
SUMMARY:Julia Marcell\, 29.02.2020\, Klub Stodoła
DESCRIPTION:TIMETABLE:\n18:30 - otwarcie drzwi\n19:30 - Julia Marcell\n\n
 🎟 BILETY - bit.ly/JuliaMarcell_Stodola\n\n29 lutego w Klubie Stodoła w
 ystąpi Julia Marcell! Artystka zaprezentuje warszawskiej publiczności ma
 teriał z płyty “Skull Echo”\, którą promują single "Moment i wiec
 zność" oraz "Prawdopodobieństwo". Bilety dostępne w sprzedaży! \n\nNa
 jnowszy projekt Julii Marcell „Skull Echo” to płyta i film - tematycz
 nie połączone\, ale niezależne od siebie. Na płytę składa się jeden
 aście utworów\, które przynoszą muzyczną zmianę - elektroniczne inst
 rumentarium o szerokim brzmieniu\, duże melodie i futurystyczna produkcja
 \, w tekstach zaś kosmos\, absolut i potrzeba bliskości. Album powstał 
 w Berlinie we współpracy z producentem muzycznym Michaelem Havesem. \n\n
 Razem z muzyką przyszedł pomysł na film. Tematy podejmowane na płycie 
 zainspirowały Julię do stworzenia scenariusza pełnometrażowej opowieś
 ci o tym samym tytule. Swój debiut fabularny rozwija wspólnie z producen
 tką filmową Natalią Grzegorzek z Koskino.\n\nJulia o projekcie: „Skul
 l Echo to opowieść o czasie\, percepcji i samotności. O głowach\, w kt
 órych jesteśmy uwięzieni\, budując poprzez zmysły swój obraz świata
  – pełen niepewnych informacji\, wybiórczo pamiętanych i dowolnie prz
 ekształcanych. To opowieść o pragnieniu porozumienia\, o tęsknocie za 
 drugim człowiekiem.”\n\nhttps://youtu.be/evQdAwN-Ul8\n\n"Moment i wiecz
 ność" to pierwszy singiel zapowiadający płytę “Skull Echo”. Towar
 zyszy mu teledysk wyreżyserowany przez Julię i wyprodukowany przez Sputn
 ik Studio.\n\nZAPRASZAMY\n\nBilety:\nI pula – 55 PLN (miejsca stojące)\
 nII pula – 65 PLN (miejsca stojące)\nIII pula – 75 PLN (miejsca stoj
 ące)\nBalkon – 100 PLN (miejsca siedzące)\ndo kupienia w kasie Klubu S
 todoła (Warszawa ul. Batorego 10)\nSprzedaż internetowa: www.stodola.pl\
 , www.ticketclub.pl \n\nPodane godziny są orientacyjne i mogą ulec zmian
 ie.\n\nOsoby poniżej 16 roku życia mogą uczestniczyć w koncercie wył
 ącznie pod opieką rodzica (lub wskazanego przez niego opiekuna).\nOsoby\
 , które ukończyły 16 rok życia\, a nie ukończyły 18 roku życia musz
 ą mieć przy sobie oświadczenie ze zgodą na udział w imprezie\, podpis
 ane przez rodzica bądź prawnego opiekuna.\nPobierz oświadczenie:\nhttp:
 //pliki.stodola.pl/OswiadczenieOpiekunaKlubStodola.pdf\n\nWszelkie pytania
  dotyczące wsparcia osób z problemami z poruszaniem się\, prosimy kiero
 wać na adres: niepelnosprawni@stodola.pl\nKup kartę podarunkową klubu S
 todoła i obdaruj kogoś bliskiego wyjątkowym koncertem. Szczegóły TUTA
 J.
ATTACH;FMTTYPE=image/jpeg:https://night4u.pl/wp-content/uploads/2019/10/85
 437_image_74214577_10156269410476883_8053056163807232000_o.jpg
CATEGORIES:mazowieckie
LOCATION:klub Stodoła\, \, 
X-APPLE-STRUCTURED-LOCATION;VALUE=URI;X-ADDRESS=\, ;X-APPLE-RADIUS=100;X-TI
 TLE=klub Stodoła:geo:0,0
END:VEVENT
BEGIN:VTIMEZONE
TZID:Europe/Warsaw
X-LIC-LOCATION:Europe/Warsaw
BEGIN:STANDARD
DTSTART:20191027T020000
TZOFFSETFROM:+0200
TZOFFSETTO:+0100
TZNAME:CET
END:STANDARD
END:VTIMEZONE
END:VCALENDAR