BEGIN:VCALENDAR
VERSION:2.0
PRODID:-//wp-events-plugin.com//7.2.3.1//EN
TZID:Europe/Warsaw
X-WR-TIMEZONE:Europe/Warsaw
BEGIN:VEVENT
UID:5464@night4u.pl
DTSTART;TZID=Europe/Warsaw:20190201T210000
DTEND;TZID=Europe/Warsaw:20190202T030000
DTSTAMP:20190130T175825Z
URL:https://night4u.pl/wydarzenia/juri-b-day-party/
SUMMARY:Juri B-Day Party
DESCRIPTION:Witamy ponownie!! Już w najbliższy piątek zapraszamy na afte
 r po Mega Imprezie tamtego tygodnia! \nTym razem będziemy świętować of
 icjalnie urodziny naszego rezydenta i mamy nadzieję\, że będzie równie
  liczna frekwencja jak ostatnio. \nCo za tym idzie\, czeka na was: \n✔ L
 aser Show\n✔ Konfetti \n✔ Darmowy urodzinowy shot na wejście\n✔ Inn
 e ceny niż zwykle na barze\n\nPodsumowując: \n☘ Wejście: +17\n☘ STA
 RT: 21:00\n☘ Konsola: DJ Sayo / DJ Teed / DJ Juri\n☘ Wstęp: Do 22:00 
 5 zł\, później 10 zł\n\nMożliwość rezerwacji loży w cenie 20 zł p
 od numerem telefonu: 697 420 170\n\nPrzez całą noc nad waszym bezpiecze
 ństwem będzie czuwać OCHRONA!\n\nLokal ma prawo do selekcji osób (bez 
 odzieży sportowej)!
ATTACH;FMTTYPE=image/jpeg:https://night4u.pl/wp-content/uploads/2019/01/16
 843_image_51105797_543248882817769_6765242324982169600_n.jpg
CATEGORIES:podkarpackie
LOCATION:Ajrisz Levels\, Słowackiego 4\, Krosno\, 38-400\, Poland
GEO:49.694471;21.765426
X-APPLE-STRUCTURED-LOCATION;VALUE=URI;X-ADDRESS=Słowackiego 4\, Krosno\, 3
 8-400\, Poland;X-APPLE-RADIUS=100;X-TITLE=Ajrisz Levels:geo:49.694471,21.7
 65426
END:VEVENT
BEGIN:VTIMEZONE
TZID:Europe/Warsaw
X-LIC-LOCATION:Europe/Warsaw
BEGIN:STANDARD
DTSTART:20181028T020000
TZOFFSETFROM:+0200
TZOFFSETTO:+0100
TZNAME:CET
END:STANDARD
END:VTIMEZONE
END:VCALENDAR