BEGIN:VCALENDAR
VERSION:2.0
PRODID:-//wp-events-plugin.com//7.2.3.1//EN
TZID:Europe/Warsaw
X-WR-TIMEZONE:Europe/Warsaw
BEGIN:VEVENT
UID:36701@night4u.pl
DTSTART;TZID=Europe/Warsaw:20191122T210000
DTEND;TZID=Europe/Warsaw:20191123T030000
DTSTAMP:20191123T002728Z
URL:https://night4u.pl/wydarzenia/just-dance-to-disco-piatek-22-11/
SUMMARY:Just Dance To Disco // Piątek 22.11
DESCRIPTION:W piątek 22 listopada zapraszamy na Waszą ulubioną imprezę 
 Just Dance To Disco\, podczas której usłyszycie u nas Polskie Disco\, La
 tino\, POP i Dance. Za sterami Dj Xavier!\nPanie wstęp FREE do godziny 23
 :00!\n\n22 Listopada - Piątek\nMuzyka: Dj Xavier\nStart: 21:00\n★ Panie
  wstęp FREE do godziny 23:00\n★ Bilety: 10 zł\n★ Selekcja: 18+\n★ 
 Dresscode: Elegant \n\nRezerwacji dokonywać można pod nr. tel: 698 515 6
 70\nW klubie obowiązuje selekcja.
ATTACH;FMTTYPE=image/jpeg:https://night4u.pl/wp-content/uploads/2019/11/10
 1090_image_72944693_3196776717064490_8304486375403552768_o.jpg
CATEGORIES:podlaskie
LOCATION:Klub 54\, Aleja Legionów 54 F\, Łomża\, 18-400\, Poland
GEO:53.171129;22.065068
X-APPLE-STRUCTURED-LOCATION;VALUE=URI;X-ADDRESS=Aleja Legionów 54 F\, Łom
 ża\, 18-400\, Poland;X-APPLE-RADIUS=100;X-TITLE=Klub 54:geo:53.171129,22.
 065068
END:VEVENT
BEGIN:VTIMEZONE
TZID:Europe/Warsaw
X-LIC-LOCATION:Europe/Warsaw
BEGIN:STANDARD
DTSTART:20191027T020000
TZOFFSETFROM:+0200
TZOFFSETTO:+0100
TZNAME:CET
END:STANDARD
END:VTIMEZONE
END:VCALENDAR