BEGIN:VCALENDAR
VERSION:2.0
PRODID:-//wp-events-plugin.com//7.2.3.1//EN
TZID:Europe/Warsaw
X-WR-TIMEZONE:Europe/Warsaw
BEGIN:VEVENT
UID:43150@night4u.pl
DTSTART;TZID=Europe/Warsaw:20200924T180000
DTEND;TZID=Europe/Warsaw:20200927T235900
DTSTAMP:20200504T090621Z
URL:https://night4u.pl/wydarzenia/juwenalia-krakowskie-2020/
SUMMARY:Juwenalia Krakowskie 2020
DESCRIPTION:Zaczynamy! ❤️\n\nNajbardziej wyczekiwany i rozrywkowy tydzi
 eń studenckiego życia powraca - Juwenalia Krako(w)skie 2020 przed nami! 
 🥳 W tym roku wyjątkowo odbędą się w dniach 24-27 września! \n\n
 👉 www.juwenalia.krakow.pl 👈\n\nMasz pytanie? 🙋\nNapisz na juwenal
 ia.krakowskie@samorzad.agh.edu.pl 📩\n\nORGANIZATORZY 🏗\n✔️ Poroz
 umienie Samorządów Studenckich Uczelni Krakowa (PSSUK)\n✔️ URSS AGH 
 - Uczelniana Rada Samorządu Studentów AGH\n✔️ Samorząd Studentów U
 niwersytetu Jagiellońskiego\n✔️ Fundacja Studentów i Absolwentów UJ
  "Bratniak"\n✔️ Fundacja Studentów i Absolwentów AGH "Academica"
ATTACH;FMTTYPE=image/jpeg:https://night4u.pl/wp-content/uploads/2020/04/13
 7999_image_93049256_10163219199290462_4913403274788339712_o.jpg
CATEGORIES:małopolskie
END:VEVENT
BEGIN:VTIMEZONE
TZID:Europe/Warsaw
X-LIC-LOCATION:Europe/Warsaw
BEGIN:DAYLIGHT
DTSTART:20200329T030000
TZOFFSETFROM:+0100
TZOFFSETTO:+0200
TZNAME:CEST
END:DAYLIGHT
END:VTIMEZONE
END:VCALENDAR