BEGIN:VCALENDAR
VERSION:2.0
PRODID:-//wp-events-plugin.com//7.2.3.1//EN
TZID:Europe/Warsaw
X-WR-TIMEZONE:Europe/Warsaw
BEGIN:VEVENT
UID:45059@night4u.pl
DTSTART;TZID=Europe/Warsaw:20200507T180000
DTEND;TZID=Europe/Warsaw:20200509T000000
DTSTAMP:20200128T202704Z
URL:https://night4u.pl/wydarzenia/juwenalia-politechniki-lubelskiej-2020/
SUMMARY:Juwenalia Politechniki Lubelskiej 2020!
DESCRIPTION:Zbliżają się Juwenalia Politechniki Lubelskiej 2020! 🔥\n\
 nZaczynamy tradycyjnie Korowodem Studenckim przechodzącym przez cały Lub
 lin!\n\nWszystkie koncerty plenerowe odbędą się na Terenach Zielonych P
 olitechniki Lubelskiej.\n\nDo zobaczenia! 🔥🔥🔥
ATTACH;FMTTYPE=image/jpeg:https://night4u.pl/wp-content/uploads/2020/01/14
 6244_image_84382171_2562897487138784_2049915395627810816_o.jpg
CATEGORIES:lubelskie
LOCATION:Tereny Zielone Politechniki Lubelskiej\, Nadbystrzycka\, Lublin\, 
 20-618\, Poland
GEO:51.23795;22.55076
X-APPLE-STRUCTURED-LOCATION;VALUE=URI;X-ADDRESS=Nadbystrzycka\, Lublin\, 20
 -618\, Poland;X-APPLE-RADIUS=100;X-TITLE=Tereny Zielone Politechniki Lubel
 skiej:geo:51.23795,22.55076
END:VEVENT
BEGIN:VTIMEZONE
TZID:Europe/Warsaw
X-LIC-LOCATION:Europe/Warsaw
BEGIN:DAYLIGHT
DTSTART:20200329T030000
TZOFFSETFROM:+0100
TZOFFSETTO:+0200
TZNAME:CEST
END:DAYLIGHT
END:VTIMEZONE
END:VCALENDAR