BEGIN:VCALENDAR
VERSION:2.0
PRODID:-//wp-events-plugin.com//7.2.3.1//EN
TZID:Europe/Warsaw
X-WR-TIMEZONE:Europe/Warsaw
BEGIN:VEVENT
UID:38680@night4u.pl
DTSTART;TZID=Europe/Warsaw:20200120T180000
DTEND;TZID=Europe/Warsaw:20200120T220000
DTSTAMP:20200120T223018Z
URL:https://night4u.pl/wydarzenia/kabaret-czesuaf-i-kabaret-jurki-w-csk/
SUMMARY:Kabaret Czesuaf i Kabaret Jurki w CSK
DESCRIPTION:Zapraszamy 20.01.2020 do Centrum Spotkania Kultur w Lublinie na
  dwie rejestracje DVD najnowszych programów Kabaret Czesuaf „Przyjęcie
 ” i Kabaret Jurki "Last minute" !\n\nKabaret Czesuaf w programie pt.„P
 rzyjęcie” - to dwie godziny skeczów i piosenek\, przy których nikt ni
 e będzie się nudził. Są przyjęcia rodzinne\, są przyjęcia państwow
 e\, przyjęcia bardziej lub mniej oficjalne\, ale „Przyjęcie” kabaret
 u Czesuaf\, to jedyne\, na którym goście będą płakać ze śmiechu. Na
  „Przyjęciu” goście spotkają prawie prawdziwego króla\, prawdziweg
 o hrabiego\, jego nie do końca rezolutnego służącego oraz pannę hrabi
 ankę Wątrobiankę. Będzie kolega z liceum\, który ze swoim szwagrem ro
 bił takie rzeczy\, o jakich nam się nawet nie śniło. Wpadną również
  Jadwiga\, Seba i pan profesor z poprzednich programów. Podobno mogą si
 ę pojawić nawet osoby znane z pierwszych stron gazet. Menu na „Przyję
 ciu” jest bardzo obszerne\, każdy wybierze kilka smacznych skeczów i p
 rzebojowych piosenek na deser. A to wszystko w wykonaniu Olgi\, Tomka\, Wo
 jtka i Maćka.\nDlatego już dziś wszyscy czujcie się zaproszeni na „P
 rzyjęcie” u Czesuafa!\n\nKabaret Jurki w programie - "Last minute"\nŻy
 jemy w biegu\, na huśtawce\, na krawędzi\, na kredyt\, wszystko odkłada
 my na ostatnią chwilę\, albo kręcimy się w kółko jak bąki na plecka
 ch i nie możemy ruszyć z miejsca. A życie nie będzie na nas czekać\, 
 a marzenia same się nie spełnią. Nie czekajmy do ostatniej chwili\, met
 ronom nie śpi... tik tak tik tak tik tak...\n\nBilety w cenie 50/60 zł d
 ostępne na:\n•biletynakabarety.pl &gt\;&gt\;&gt\; https://bit.ly/2OAGkl
 s\n•kupbilecik.pl &gt\;&gt\;&gt\; https://bit.ly/2s67Dg7\n•stacjonarni
 e - Agencja Artystyczna KEREZA ul. Żołnierzy Niepodległej 3/20 Lublin
ATTACH;FMTTYPE=image/jpeg:https://night4u.pl/wp-content/uploads/2019/12/11
 1047_image_79021816_2041443122625809_833959808523567104_o.jpg
CATEGORIES:lubelskie
LOCATION:Spotkania Kultur\, Plac Teatralny 1\, Lublin\, 20-029\, Poland
GEO:51.247033;22.54863
X-APPLE-STRUCTURED-LOCATION;VALUE=URI;X-ADDRESS=Plac Teatralny 1\, Lublin\,
  20-029\, Poland;X-APPLE-RADIUS=100;X-TITLE=Spotkania Kultur:geo:51.247033
 ,22.54863
END:VEVENT
BEGIN:VTIMEZONE
TZID:Europe/Warsaw
X-LIC-LOCATION:Europe/Warsaw
BEGIN:STANDARD
DTSTART:20191027T020000
TZOFFSETFROM:+0200
TZOFFSETTO:+0100
TZNAME:CET
END:STANDARD
END:VTIMEZONE
END:VCALENDAR