BEGIN:VCALENDAR
VERSION:2.0
PRODID:-//wp-events-plugin.com//7.2.3.1//EN
TZID:Europe/Warsaw
X-WR-TIMEZONE:Europe/Warsaw
BEGIN:VEVENT
UID:34336@night4u.pl
DTSTART;TZID=Europe/Warsaw:20191120T190000
DTEND;TZID=Europe/Warsaw:20191120T220000
DTSTAMP:20191031T075041Z
URL:https://night4u.pl/wydarzenia/kacper-rucinski-najnowszy-program-mojito
 -virgin-bialystok-ii/
SUMMARY:Kacper Ruciński - najnowszy program Mojito Virgin/ Białystok II
DESCRIPTION:Kacper Ruciński ze swoim najnowszym programie pt. MOJITO VIRGI
 N! \nPionier polskiej sceny stand-upowej przedstawi przed Wami swój najno
 wszy materiał. Musisz tam być!\n\n\nBILETY ONLINE:\nhttp://kbq.pl/43388
ATTACH;FMTTYPE=image/jpeg:https://night4u.pl/wp-content/uploads/2019/10/88
 340_image_71290690_2527889683942889_4122842912494977024_o.jpg
CATEGORIES:podlaskie
LOCATION:Herkulesy klub\, Mickiewicza 2c\, Białystok\, 15-222\, Poland
GEO:53.129396;23.167055
X-APPLE-STRUCTURED-LOCATION;VALUE=URI;X-ADDRESS=Mickiewicza 2c\, Białystok
 \, 15-222\, Poland;X-APPLE-RADIUS=100;X-TITLE=Herkulesy klub:geo:53.129396
 ,23.167055
END:VEVENT
BEGIN:VTIMEZONE
TZID:Europe/Warsaw
X-LIC-LOCATION:Europe/Warsaw
BEGIN:STANDARD
DTSTART:20191027T020000
TZOFFSETFROM:+0200
TZOFFSETTO:+0100
TZNAME:CET
END:STANDARD
END:VTIMEZONE
END:VCALENDAR