BEGIN:VCALENDAR
VERSION:2.0
PRODID:-//wp-events-plugin.com//7.2.3.1//EN
TZID:Europe/Warsaw
X-WR-TIMEZONE:Europe/Warsaw
BEGIN:VEVENT
UID:41949@night4u.pl
DTSTART;TZID=Europe/Warsaw:20200206T200000
DTEND;TZID=Europe/Warsaw:20200206T230000
DTSTAMP:20200331T154627Z
URL:https://night4u.pl/wydarzenia/kaczmarczyk-slowinski-duo-kaczmarczyks-b
 -day-concert/
SUMMARY:Kaczmarczyk &amp\; Słowiński DUO – Kaczmarczyk’s B-day Concer
 t
DESCRIPTION:Zapraszamy na specjalny koncert duetu Paweł Kaczmarczyk &amp\;
  Stanisław Słowiński. Urodziny jednego z najwybitniejszych pianistów e
 uropejskiej sceny jazzowej\, duet świętować będzie podczas specjalnego
  koncertu w krakowskiej Alchemii. \nW programie kompozycje Kaczmarczyka i 
 Słowińskiego z wielokrotnie nagradzanych i docenianych przez krytyków i
  publikę albumów w nowych aranżacjach.\n\nPaweł Kaczmarczyk\nKoncertuj
 ący na całym świecie pianista jazzowy i kompozytor o wielkim dorobku i 
 jeszcze większych planach.\n\nNagrał pięć świetnie przyjętych album
 ów i wiele w roli sidemana\, a dotychczasowe wydawnictwa przyniosły mu l
 iczne nagrody i wyróżnienia\, w tym m.in.:\n\n– nominację do Fryderyk
 a\n– sześć zwycięstw w plebiscycie Jazz Top magazynu „Jazz Forum”
 \n– pięć „Oskarów Jazzowych” – Grand Prix Jazz Melomani\n– Ma
 teusza Trójki Polskiego Radia\n– Kulturalny Odlot Gazety Wyborczej\n\nN
 ie lubi dzielić muzyki na szufladki\, bo jego twórczość z samego zało
 żenia ma wymykać się̨ jednoznacznym określeniom. „Chcę\, żeby moj
 a muzyka poruszała – nie tylko wewnętrznie\, emocjonalnie\, ale także
  dosłownie i fizycznie. Chcę poderwać ludzi z foteli\, dając im przy t
 ym coś\, co nie wyleci im z głowy chwilę po opuszczeniu koncertu czy wy
 łączeniu płyty.” – Paweł Kaczmarczyk.\n\nStanisław Słowiński\n\
 nSkrzypek\, aranżer\, kompozytor\, producent muzyczny\, multiinstrumental
 ista. Jeden z najbardziej aktywnych twórców europejskiej sceny muzycznej
 . Jako lider autorskich projektów\, sideman\, muzyk sesyjny gra przeszło
  100 koncertów rocznie odwiedzając sceny klubów i festiwali całego św
 iata\; m.in.: Polska\, Hiszpania\, Węgry\, Serbia\,\nIslandia\, Niemcy\, 
 Chiny\, Korea Południowa\, Chile\, Capo Verde.\n\nZ autorskim materiałem
  zadebiutował albumem Landscapes Too Easy To Explain\, który ukazał si
 ę międzynarodowej dystrybucji nakładem prestiżowego wydawnictwa Hevhet
 ia i spotkał się z uznaniem publiki i krytków muzycznych.\n\nKolejny au
 torski album „Visions | Between Love and Death” nagrany z grupą Stani
 sław Słowiński Sextet spotkał się z uznaniem krytyków i publicznośc
 i\, a jego premierowa trasa koncertowa objęła kilkadziesiąt koncertów 
 na terenie wielu krajów Europy i Azji\, gdzie jest jednym z najczęściej
  koncertujących polskiej sceny jazzowej. Laureat Grand Prix 39. Międzyna
 rodowego Konkursu Młodych Zespołów Jazzowych Jazz Juniors z autorskim p
 rojektem Stanisław Słowiński Quintet.\n\nLaureat Nagrody Publiczności 
 na I Międzynarodowym Jazzowym Konkursie Skrzypcowym im. Zbigniewa Seifert
 a. Laureat Stypendium Twórczego Miasta Krakowa 2014.\n\nPoza działalnoś
 cią koncertową niezwykle aktywny również jako kompozytor\, aranżer\, 
 producent muzyczny\; dyskografia z jego udziałem: wykonawczym\, kompozycy
 jnym\, autorskim i „gościnnym” – to już kilkadziesiąt albumów. J
 est też twórcą muzyki filmowej i teatralnej.\n\nBILETY : 35 zł przedsp
 rzedaż\, 45 zł w dniu koncertu
ATTACH;FMTTYPE=image/jpeg:https://night4u.pl/wp-content/uploads/2020/01/13
 2322_image_81813339_2600905743280314_1934162968983896064_o.jpg
CATEGORIES:małopolskie
LOCATION:Klub Alchemia\, ul. Estery 5 (róg Estery i Placu Nowego) 31-056 K
 raków\, Kraków\, 31-056\, Poland
GEO:50.052061;19.944912
X-APPLE-STRUCTURED-LOCATION;VALUE=URI;X-ADDRESS=ul. Estery 5 (róg Estery i
  Placu Nowego) 31-056 Kraków\, Kraków\, 31-056\, Poland;X-APPLE-RADIUS=1
 00;X-TITLE=Klub Alchemia:geo:50.052061,19.944912
END:VEVENT
BEGIN:VTIMEZONE
TZID:Europe/Warsaw
X-LIC-LOCATION:Europe/Warsaw
BEGIN:STANDARD
DTSTART:20191027T020000
TZOFFSETFROM:+0200
TZOFFSETTO:+0100
TZNAME:CET
END:STANDARD
END:VTIMEZONE
END:VCALENDAR