BEGIN:VCALENDAR
VERSION:2.0
PRODID:-//wp-events-plugin.com//7.2.3.1//EN
TZID:Europe/Warsaw
X-WR-TIMEZONE:Europe/Warsaw
BEGIN:VEVENT
UID:5990@night4u.pl
DTSTART;TZID=Europe/Warsaw:20190315T190000
DTEND;TZID=Europe/Warsaw:20190316T040000
DTSTAMP:20190131T221206Z
URL:https://night4u.pl/wydarzenia/kaen-raszu-zet-freestyle-superhero/
SUMMARY:KAEN\, Raszu\, Zet\, Freestyle Superhero
DESCRIPTION:Kaen to twórca\, który znany jest  m in.  z radiowego megahit
 u "Echo" nagranego wspólnie z supergwiazdą Ewą Farną. Na jego najnowsz
 ej płycie poza wspomnianą artystką pojawi się również zwyciężczyni
  "The Voice of Poland" Marta Gułaszewska\, legenda polskiego hip-hopu Pej
 a\,a także znani raperzy tacy jak Kaz Bałagane i Malik Montana. Na żywo
  w klubie Elefunk Kaen zagra dla Was energiczne koncertowe numery ze swoje
 j najnowszej płyty "2020"\, tuż po jej oficjalnej premierze. Na koncerci
 e nie zabraknie także mega hitów z przekroju wielu lat jego twórczości
 \, tj. Alter ego czy Zbyt Wiele (prawie 90 mln odtworzeń na youtube). To 
 będzie na prawdę gorąca noc\, pełna mocnych bodźców i niezapomnianyc
 h wrażeń. Tym bardziej\, że poza koncertem przygotowaliśmy dla Was moc
  atrakcji. \n\nTego dnia po raz pierwszy w Polsce będzie można zobaczyć
  tego typu bitwę superbohaterów\,  w postacie których wcielą się popu
 larni szczecińscy i poznańscy fristajlowcy. Wystąpią dla Was w ten spo
 sób m in. "Ash Ketchup"\, "Jackie Chrzan"\, "Masoński Namiestnik"\, "Fli
 rtmen"\, "Afromen i "Sombrero".  Wy zdecydujecie razem z jury kto z nich w
 ygra nagrodę konkursową. Zabawa będzie o tyle fajniejsza\, że postacie
  będą stały po stronie zła\, lub dobra i będą miały własną histor
 ię wokół której będzie oscylowała bitwa. Na koniec czeka nas pokaz w
 alki dobra ze złem. Bitwę poprowadzi Syn Młynarza.\n\nDodatkowo w progr
 amie:\n\nPremierowy koncert płyty "Raszu x Zet - Nie pytaj o tytuł" \nKo
 ncert promujący płytę "Konkret - Od Początku" \nEnergiczny pokaz reagg
 etonu szkoły tańca "Kimama"\nProgram stand-upowy znanego szczecińskiego
  komika Erwina. \n\nPo wydarzeniu afterparty z muzyką od Dj Zet Sounds wr
 az z Dj Hardcutem (Konkretem). Będzie rap\, trap\, r&b reaggeton i wiele 
 innej bujającej muzyki. Zaczynamy o 00:00!\n\nKup bilet na: \nhttps://tic
 ketos.pl/event/1582/kaen-koncert-premierowy.html\n\nI PULA BILETÓW : 25 Z
 Ł \nII PULA BILETÓW: 30 ZŁ   \nBILETY DLA VIPA: 100 ZŁ \n\nBilety do k
 upienia na miejscu:\n\nBILET NA WYDARZENIE: 40 ZŁ (od 19:00)\nBILET NA AF
 TER PARTY: 15 ZŁ (od 00:00)\n\n*Bilet VIP upoważnia do wejścia na backs
 tage i spotkania z Kaenem oraz artystami. Daje również możliwość zrob
 ienia wspólnego zdjęcia poza kolejką. W cenę biletu wliczony jest pona
 dto unikalny plakat artysty\, oraz płyta Kaena ze specjalną dedykacją. 
 Ponadto pakiet przewiduje płyty od duetu Raszu x Zet i Konkreta\, oraz ud
 ział w próbie dźwięku z artystami. \n\nWSTĘP DLA OSÓB 16+\n\nPatroni
  Medialni: \nHip-hop.pl: www.hip-hop.pl
ATTACH;FMTTYPE=image/jpeg:https://night4u.pl/wp-content/uploads/2019/01/18
 005_image_50626213_2253286068054909_4953234822966280192_o.jpg
CATEGORIES:zachodniopomorskie
LOCATION:Elefunk The Club\, pl. Żołnierza Polskiego 2\, Szczecin\, 70-551
 \, Poland
GEO:53.42819;14.55416
X-APPLE-STRUCTURED-LOCATION;VALUE=URI;X-ADDRESS=pl. Żołnierza Polskiego 2
 \, Szczecin\, 70-551\, Poland;X-APPLE-RADIUS=100;X-TITLE=Elefunk The Club:
 geo:53.42819,14.55416
END:VEVENT
BEGIN:VTIMEZONE
TZID:Europe/Warsaw
X-LIC-LOCATION:Europe/Warsaw
BEGIN:STANDARD
DTSTART:20181028T020000
TZOFFSETFROM:+0200
TZOFFSETTO:+0100
TZNAME:CET
END:STANDARD
END:VTIMEZONE
END:VCALENDAR