BEGIN:VCALENDAR
VERSION:2.0
PRODID:-//wp-events-plugin.com//7.2.3.1//EN
TZID:Europe/Warsaw
X-WR-TIMEZONE:Europe/Warsaw
BEGIN:VEVENT
UID:1491@night4u.pl
DTSTART;TZID=Europe/Warsaw:20190202T220000
DTEND;TZID=Europe/Warsaw:20190203T060000
DTSTAMP:20181230T151051Z
URL:https://night4u.pl/wydarzenia/kalwi-remi/
SUMMARY:KALWI & REMI
DESCRIPTION:W sobotę 2 LUTEGO  specjalnie dla Was zagra niezawodny duet Ka
 lwi & Remi! Tej nocy czeka nas impreza przy nieśmiertelnych hitach takich
  jak "Explosion" i "Imagination" oraz przy najnowszym utworze "Unbreakable
 " i wielu \, wielu innych .\n\nPoczątek powstania duetu to druga połowa 
 2003 roku.Wtedy własnie Kalwi i Remi poznali się w radiu\, w którym pro
 wadzili własne programy promujące muzykę klubową. Z biegiem czasu Kalw
 i & Remi postanowili pójść o krok naprzód i spróbować sił jako prod
 ucenci muzyczni. Jeszcze pod koniec 2003 roku powstał "Explosion".Singiel
  trafił do TOP 10 Deutsche Dance Charts i na regularną playlistę radia 
 Sunshine Live\, przez 3 tygodnie królował na kanadyjskiej liście BPM:TV
 \, a także wielokrotnie został wyemitowany w BBC Radio One w Essencial M
 ix Judge Jules'a.\nPrawdziwym przełomem dla duetu było podpisanie kontra
 ktu z polska wytwórnią My Music\, co zaowocowało wydaniem albumu "Alway
 s In Trance". Klipy "Explosion"\, "Imagination" oraz "Made In USA" do chwi
 li obecnej grane są w najpopularniejszych telewizjach muzycznych\, a słu
 chacze topowego radia Eska przyznali duetowi Kalwi & Remi nagrodę Eska Mu
 sic Awards za imprezowy hit roku.\n\n_____________\nInformacje organizacyj
 ne:\n\n? Narraganset\, ul.Gdańska 129\n? 02 luty \n? 22:00 (Dj .Piter )\n
 ⭐ 1:00\n? 20 zł\nDruga sala: karaoke \,  disco\, dj.Gabi \nDarmowy wst
 ęp: \n- osoby udostępniające to wydarzenie na swoim profilu z opcją "p
 ubliczne" \n- posiadacze kart VIP Narraganset \n?\n\n
ATTACH;FMTTYPE=image/jpeg:https://night4u.pl/wp-content/uploads/2018/12/68
 83_image_48416836_10157559856237908_5467038273073315840_o.jpg
CATEGORIES:łódzkie
LOCATION:NARRAGANSET\, Gdańska 129\, Łódź\, 90-519\, Poland
GEO:51.759549;19.450388
X-APPLE-STRUCTURED-LOCATION;VALUE=URI;X-ADDRESS=Gdańska 129\, Łódź\, 90
 -519\, Poland;X-APPLE-RADIUS=100;X-TITLE=NARRAGANSET:geo:51.759549,19.4503
 88
END:VEVENT
BEGIN:VTIMEZONE
TZID:Europe/Warsaw
X-LIC-LOCATION:Europe/Warsaw
BEGIN:STANDARD
DTSTART:20181028T020000
TZOFFSETFROM:+0200
TZOFFSETTO:+0100
TZNAME:CET
END:STANDARD
END:VTIMEZONE
END:VCALENDAR