BEGIN:VCALENDAR
VERSION:2.0
PRODID:-//wp-events-plugin.com//7.2.3.1//EN
TZID:Europe/Warsaw
X-WR-TIMEZONE:Europe/Warsaw
BEGIN:VEVENT
UID:3452@night4u.pl
DTSTART;TZID=Europe/Warsaw:20190311T190000
DTEND;TZID=Europe/Warsaw:20190311T230000
DTSTAMP:20190111T110916Z
URL:https://night4u.pl/wydarzenia/kamasi-washington-11-03-2019-warszawa-st
 odola/
SUMMARY:Kamasi Washington: 11.03.2019 Warszawa\, Stodoła
DESCRIPTION:Kamasi Washington w marcu powróci do warszawskiej Stodoły! Za
 praszamy na koncert 11 marca!\n\nAmerykański jazzman spełnianie muzyczne
 go przeznaczenia rozpoczął już w wieku 13 lat\, gdy zaczął grać „S
 leeping Dancer Sleep On” Wayne’a Shortera\, mimo\, że nigdy wcześnie
 j nie miał w rękach saksofonu. Jakiś czas później zajął miejsce sak
 sofonisty tenorowego w Academy of Music and Performing Arts w Alexander Ha
 milton High School\, założył również swój własny zespół - "Young 
 Jazz Giants". Washington otrzymał stypendium na University of California 
 w Los Angeles\, gdzie studiował etnomuzykologię. Pierwszą płytę młod
 y muzyk nagrał już na pierwszym roku studiów. Album odkrył jego muzycz
 ną dojrzałość\, definiując nowe brzmienie jazzu. Po ukończeniu drugi
 ego roku Washington pojechał w pierwszą krajową trasę po zachodnim wyb
 rzeżu z hiphopową legendą\, Snoop Doggiem\, gdzie występował u boku n
 ajbardziej utalentowanych młodych muzyków w kraju. Kamasi na swoim konci
 e ma współpracę zarówno z jazzowymi legendami jak Wayne Shorter czy He
 rbie Hancock\, jak i raperami (m.in. wspomniany już Snoop Dogg czy Kendri
 ck Lamar)\, a także artystami eksperymentującymi z muzyką nie dającą 
 się zaszufladkować w jednym gatunku\, takimi jak Thundercat czy Flying L
 otus. W 2015 roku Kamasi Washington wydał krążek „The Epic”\, któr
 y został przyjęty z niezwykłym entuzjazmem\, zbierając nagrody za najl
 epszy album roku.\n\nWyczekiwana kontynuacja debiutanckiej płyty („Heav
 en and Earth”)\, została podzielona na dwie części\, za pomocą któr
 ych Washington konfrontuje rzeczywistość z kosmicznym teatrem. W ten spo
 sób artysta rozlicza się z obecnym globalnym chaosem i przedstawia swoj
 ą wizję przyszłości. Utworom „Fists of Fury” i „The Space Travel
 ers Lullaby” towarzyszą obrazy stworzone przez uznaną brytyjską artys
 tkę i reżysera - Jenn Nkiru\, odpowiedzialną m.in. za produkcję hitowe
 go klipu „APESHIT” Beyonce i Jay-Z. Bogate wizualne kontekstualizacje 
 inspirowane są bardziej ekspansywną współpracą przy filmowym projekci
 e „Heaven And Earth”.\n\nPrzypominamy\, że kupując bilety od osób u
 mieszczających oferty odsprzedaży na Facebooku możecie Państwo zostać
  oszukani – ryzykujecie w ten sposób kupno fałszywych wejściówek\, k
 tóre nie umożliwią wejścia na koncert. Prosimy o kupowanie biletów wy
 łącznie w autoryzowanych punktach sprzedaży! Autoryzowanymi punktami sp
 rzedaży nie są m.in. Viagogo\, Ticketswap\, Allegro\, OLX. \n\nData: 201
 9-03-11 (poniedziałek)\nMiasto: Warszawa\nMiejsce: Stodoła\nAdres: ul. B
 atorego 10\nGodziny: wejście - 19:00 // start koncertu - 20:00\nCena bile
 tów: \nmiejsca stojące - 130 zł (przedsprzedaż) / 150 zł (w dniu konc
 ertu)\;\nbalkon (miejsca siedzące) - 160 zł\nMiejsca sprzedaży: www.go-
 ahead.pl\, www.biletomat.pl\, www.ebilet.pl\, www.ticketmaster.pl\, www.ti
 cketclub.pl www.empikbilety.pl\, oraz sklepy sieci Empik\, Media Markt\, S
 aturn. Bilety są również dostępne w kasie Klubu oraz na www.stodola.pl
ATTACH;FMTTYPE=image/jpeg:https://night4u.pl/wp-content/uploads/2019/01/11
 072_image_46124381_10161211133255486_2486074362533249024_o.jpg
CATEGORIES:mazowieckie
LOCATION:klub Stodoła\, \, 
X-APPLE-STRUCTURED-LOCATION;VALUE=URI;X-ADDRESS=\, ;X-APPLE-RADIUS=100;X-TI
 TLE=klub Stodoła:geo:0,0
END:VEVENT
BEGIN:VTIMEZONE
TZID:Europe/Warsaw
X-LIC-LOCATION:Europe/Warsaw
BEGIN:STANDARD
DTSTART:20181028T020000
TZOFFSETFROM:+0200
TZOFFSETTO:+0100
TZNAME:CET
END:STANDARD
END:VTIMEZONE
END:VCALENDAR