BEGIN:VCALENDAR
VERSION:2.0
PRODID:-//wp-events-plugin.com//7.2.3.1//EN
TZID:Europe/Warsaw
X-WR-TIMEZONE:Europe/Warsaw
BEGIN:VEVENT
UID:33025@night4u.pl
DTSTART;TZID=Europe/Warsaw:20191208T180000
DTEND;TZID=Europe/Warsaw:20191208T200000
DTSTAMP:20191027T011650Z
URL:https://night4u.pl/wydarzenia/kameralna-sila-mikolajek-z-eok/
SUMMARY:Kameralna siła mikołajek z EOK
DESCRIPTION:Są krainy spod znaku płaszcza i szpady\, ale są też krainy 
 spod znaku choinki\, Mikołaja i muzyki. Jedną z nich\, już 8 grudnia\, 
 stanie się Sala Koncertowa Zespołu Państwowych Szkół Muzycznych. Za s
 prawą Elbląskiej Orkiestry Kameralnej i towarzyszących jej artystów pr
 zypomnimy sobie wówczas najpiękniejsze kolędy i pieśni świąteczne. N
 ie ma to\, jak mikołajki z EOK!\n\nArtyści będą sypać muzycznymi prez
 entami\, jak z rękawa i zagwarantują melomanom zastrzyk wokalno-instrume
 ntalnej energii. Z gardeł\, spod smyczków i klawiszy popłyną kompozycj
 e\, których można słuchać nie tyle zimowymi godzinami\, co zimowymi do
 bami\, a nawet zimowymi latami. Do zakochania się w tych utworach wystarc
 zy jeden dźwięk\, a tych zabrzmi o wiele\, wiele więcej…\n\nNa czele 
 mikołajkowo-muzycznej drużyny stanie Andrzej Borzym\, który równie dob
 rze i równie pewnie\, co z batutą\, czuje się z partyturą w ręku. W s
 woim dorobku ma nawet muzyczny dialog z największym dramaturgiem wszechcz
 asów – w 2016 roku skomponował „4 pieśni do słów Wiliama Szekspir
 a”. Grono występujących artystów uzupełnią\, doskonale znani elblą
 żanom\, Chór Cantata i Hadrian Filip Tabęcki.\n\n08.12.2019\, niedziela
 \, 18:00\nSala Koncertowa Zespołu Państwowych Szkół Muzycznych w Elbl
 ągu\n\nWykonawcy:                    \nHadrian Tabęcki – fortepian\nAn
 drzej Borzym – dyrygent\nChór Cantata                  \nElbląska Orki
 estra Kameralna\n\nW programie m.in.\nKolędy i najsłynniejsze pieśni ś
 wiąteczne.\n\nRezerwacje:\nBiuro Koncertowe\, Ratusz Staromiejski\,\ntel.
  55 237 47 49\, www. eok.elblag.eu\nBilety 30 zł (normalny)\, 20 zł (ulg
 owy)	\nSprawdź zniżki z Elbląską Kartą Dużej Rodziny\n\nSponsor Gł
 ówny Elbląskiej Orkiestry Kameralnej: Meble Wójcik\nSponsor Elbląskiej
  Orkiestry Kameralnej: Metal Expert Sp. J.\, Toyota Knedler\nMeble Wójcik
  jest Fundatorem Głównym Instrumentów Elbląskiej Orkiestry Kameralnej
ATTACH;FMTTYPE=image/jpeg:https://night4u.pl/wp-content/uploads/2019/10/81
 242_image_75341103_2628305610564265_8859025210901266432_n.jpg
CATEGORIES:warmińsko-mazurskie
LOCATION:Elbląska Orkiestra Kameralna\, Stary Rynek 25\, Elblag\, 82-300\,
  Poland
GEO:50.289339;18.984375
X-APPLE-STRUCTURED-LOCATION;VALUE=URI;X-ADDRESS=Stary Rynek 25\, Elblag\, 8
 2-300\, Poland;X-APPLE-RADIUS=100;X-TITLE=Elbląska Orkiestra Kameralna:ge
 o:50.289339,18.984375
END:VEVENT
BEGIN:VTIMEZONE
TZID:Europe/Warsaw
X-LIC-LOCATION:Europe/Warsaw
BEGIN:STANDARD
DTSTART:20191027T020000
TZOFFSETFROM:+0200
TZOFFSETTO:+0100
TZNAME:CET
END:STANDARD
END:VTIMEZONE
END:VCALENDAR