BEGIN:VCALENDAR
VERSION:2.0
PRODID:-//wp-events-plugin.com//7.2.3.1//EN
TZID:Europe/Warsaw
X-WR-TIMEZONE:Europe/Warsaw
BEGIN:VEVENT
UID:36303@night4u.pl
DTSTART;TZID=Europe/Warsaw:20191120T210000
DTEND;TZID=Europe/Warsaw:20191121T050000
DTSTAMP:20191119T063742Z
URL:https://night4u.pl/wydarzenia/kamikaze-night-%e2%98%85-sr-20-11/
SUMMARY:Kamikaze Night ★ Śr. 20.11
DESCRIPTION:W środę 20 listopada zapraszamy Was serdecznie na imprezę z 
 cyklu Kamikaze Party! Podczas tej imprezy obowiązuje mega promocja na Was
 z ulubiony 🍷SHOT🍷 \nDodatkowo tej nocy za pomarańczową konsoletą 
 stanie DJ i producent BASE ATTACK 🔥🔥🔥\n\nNa barach w środową no
 c przygotowaliśmy mega promocje📣\n👉 Shot Barmański - 3 zł \n👉 
 Cytrynówka / Wiśniówka - 4 zł\n👉 Piwo EB - 5 zł\n👉 Wódka - 5 z
 ł\n👉 Wódka z Cola / Sprite - 9 zł\n👉 Ballantines z Colą / Sprite
  - 10 zł\n--\nINFORMACJE\n📅 20.11 - Środa\n🕘 Start: 21:00\n🔞 Se
 lekcja: +18\n🎫 Wstęp: \nStudenci - 5zł\nReszta świata - 10zł\nWszys
 cy do 22:00 - WSTĘP FREE\n📌 Katowice\, ul. Mickiewicza 4\, Galeria Ska
 rbek (Rynek)\n--\nPROMOCJE\n🎂 Odprawimy Twoje urodziny!\nA także zorga
 nizujemy:\n💃 Wieczór Panieński\n🕺 Wieczór Kawalerski\nRezerwacje 
 od wtorku do soboty od 13:00 do 21:00\n📱 536 901 907\n📧 mojaimpreza@
 pomaranczagroup.pl\n--\nMUZYKA\nSALA KLUBOWA ▶ BASE ATTACK\n--\nINSTAGRA
 M\nwww.instagram.com/pomarancza_katowice
ATTACH;FMTTYPE=image/jpeg:https://night4u.pl/wp-content/uploads/2019/11/98
 088_image_75196265_2835631846455818_8008703900557246464_o.jpg
CATEGORIES:śląskie
LOCATION:Klub Pomarańcza Katowice\, Mickiewicza 4\, Katowice\, 40-092\, Po
 land
GEO:50.25976;19.02082
X-APPLE-STRUCTURED-LOCATION;VALUE=URI;X-ADDRESS=Mickiewicza 4\, Katowice\, 
 40-092\, Poland;X-APPLE-RADIUS=100;X-TITLE=Klub Pomarańcza Katowice:geo:5
 0.25976,19.02082
END:VEVENT
BEGIN:VTIMEZONE
TZID:Europe/Warsaw
X-LIC-LOCATION:Europe/Warsaw
BEGIN:STANDARD
DTSTART:20191027T020000
TZOFFSETFROM:+0200
TZOFFSETTO:+0100
TZNAME:CET
END:STANDARD
END:VTIMEZONE
END:VCALENDAR