BEGIN:VCALENDAR
VERSION:2.0
PRODID:-//wp-events-plugin.com//7.2.3.1//EN
TZID:Europe/Warsaw
X-WR-TIMEZONE:Europe/Warsaw
BEGIN:VEVENT
UID:6823@night4u.pl
DTSTART;TZID=Europe/Warsaw:20190315T200000
DTEND;TZID=Europe/Warsaw:20190315T235900
DTSTAMP:20190210T152439Z
URL:https://night4u.pl/wydarzenia/kamp-live-wroclaw-15-03-stary-klasztor/
SUMMARY:KAMP! Live Wrocław\, 15.03 Stary Klasztor
DESCRIPTION:Po potężnej jesiennej trasie koncertowej\, KAMP! powracają z
  serią kolejnych koncertów\, tym razem zamykając zimę i energetycznie 
 wchodząc w okres wiosenny 2019. "DARE"\, wydany w ubiegłym roku trzeci a
 lbum zespołu całkowicie zmienił występy chłopaków\, o czym warto prz
 ekonać się na własne oczy i uszy w jednym z jedenastu polskich miastach
 \, które odwiedzą w lutym\, marcu i kwietniu. Zespół pojawi się w mie
 jscach\, gdzie "DARE" na żywo jeszcze nie miał okazji zabrzmieć. Dodatk
 owo w ramach trasy zespół ponownie odwiedzi Wrocław i Warszawę. Bilety
  już w sprzedaży na stronie https://goingapp.pl/evt/2056618/kamp-dont-cl
 ap-hands-wroclaw\n\n22 lutego\, Rzeszów\, Klub Vinyl\n23 lutego\, Bielsko
  Biała\, Rude Boy\n1 marca\, Olsztyn\, Nowy Andergrant\n8 marca\, Białys
 tok\, Zmiana Klimatu\n9 marca\, Częstochowa\, Rura\n15 marca\, Wrocław\,
  Stary Klasztor\n16 marca\, Gorzów Wielkopolski\, MCK Zawarcie\n11 kwietn
 ia\, Warszawa\, Klub Niebo\n26 kwietnia\, Ostrów Wielkopolski\, Stara Prz
 epompownia\n27 kwietnia\, Zielona Góra\, Obiekt\n\nWydany we wrześniu "D
 ARE" okazał się jedną z najciekawszych elektronicznych płyt 2018 roku\
 , potwierdzając wyjątkową pozycję KAMP! na polskiej scenie muzycznej. 
 Od blisko dekady to jeden z najważniejszych polskich zespołów elektroni
 cznych. KAMP! wydawali swoją muzykę za darmo\, wyłącznie przez siec\, 
 kontakt z fani podtrzymując od pierwszych\, wyprzedawanych na pniu koncer
 tów. W 2012 roku ukazał się ich przełomowy debiut\, zatytułowany po p
 rostu "KAMP!". Płyta cieszyła się ogromnym powodzeniem\, do dziś zesp
 ół sprzedał blisko 12 tysięcy egzemplarzy debiutu. Równocześnie z dz
 iałalnością na polskim rynku\, przyszedł sukces zagraniczny. Jako jedn
 i z pierwszych\, muzycy KAMP! zaczęli regularnie koncertować na zagranic
 znych festiwalach i imprezach showcase'owych. Mają za sobą m.in. trasy p
 o USA i Wielkiej Brytanii oraz występy na tak ważnych imprezach jak amer
 ykański SXSW czy brytyjski The Great Escape.
ATTACH;FMTTYPE=image/jpeg:https://night4u.pl/wp-content/uploads/2019/02/19
 930_image_49205163_10156172891804492_2120365220198088704_o.jpg
CATEGORIES:dolnośląskie
LOCATION:Stary Klasztor\, Purkyniego 1\, Wroclaw\, 50-155\, Poland
GEO:51.110198;17.039162
X-APPLE-STRUCTURED-LOCATION;VALUE=URI;X-ADDRESS=Purkyniego 1\, Wroclaw\, 50
 -155\, Poland;X-APPLE-RADIUS=100;X-TITLE=Stary Klasztor:geo:51.110198,17.0
 39162
END:VEVENT
BEGIN:VTIMEZONE
TZID:Europe/Warsaw
X-LIC-LOCATION:Europe/Warsaw
BEGIN:STANDARD
DTSTART:20181028T020000
TZOFFSETFROM:+0200
TZOFFSETTO:+0100
TZNAME:CET
END:STANDARD
END:VTIMEZONE
END:VCALENDAR