BEGIN:VCALENDAR
VERSION:2.0
PRODID:-//wp-events-plugin.com//7.2.3.1//EN
TZID:Europe/Warsaw
X-WR-TIMEZONE:Europe/Warsaw
BEGIN:VEVENT
UID:33965@night4u.pl
DTSTART;TZID=Europe/Warsaw:20200117T200000
DTEND;TZID=Europe/Warsaw:20200117T230000
DTSTAMP:20200331T192108Z
URL:https://night4u.pl/wydarzenia/kamp-w-starym-klasztorze-17-01-live-tour
 /
SUMMARY:Kamp! w Starym Klasztorze - 17.01 / Live Tour
DESCRIPTION:Makes it happen i Stary Klasztor prezentują:\n\nKAMP! Live\n\n
 Z materiału zebranego podczas letnich koncertów festiwalowych zespół w
 ydaje nowy album Live - premiera odbyła się 22 października i oficjalni
 e rozpocznie ich jesienną trasę.\n\nBilety:\n🎫🎫🎫🎫\nI pula - 
 39 PLN\nII pula - 49 PLN\nW dniu koncertu - 59 PLN\n\nKAMP! wraca do formu
 ły full live act'ów. Po ostatniej płycie "Dare"\, szybko okazało się\
 , że większości tych utworów nie da się przełożyć na materiał kon
 certowy. Po krótkiej frustracji zespół zdecydował się na zmiany. Prze
 z ostatnie dwa lata ewoluował ich sposób konsumowania muzyki i gromadzi
 ła się w nich potrzeba przekazania swojej pasji do muzyki klubowej w szc
 zery i mocny sposób. Prosto z serca wypłynął nowy materiał na rdzenni
 e inną formułę live. Wracają do korzeni. Pozwalają sobie na większą
  improwizację i zabawę\, łącząc to z zupełnie nową jakością podcz
 as występów na żywo.\n\n17.01.20 godz.20.00 Sala Gotycka w Starym Klasz
 torze\, ul. Purkyniego 1\nKAMP! Live\nbilety: 49 zł - przedsprzedaż\, 59
  zł - w dniu koncertu\nmiejsca siedzące ( balkon): 65 zł\n\nBilety dost
 ępne w sieci salonów Empik i MediaMarkt w całej Polsce\noraz w serwisac
 h: www.staryklasztor.com.pl/bilety/\, www.eventim.pl\, www.ebilet.pl\, goi
 ngapp.pl\, empikbilety.pl\, www.biletyna.pl \nrezerwacje: bilety@o2.pl\n\n
 \nUwaga\, kupuj bilety wyłącznie w autoryzowanych punktach! \nZakup bile
 tów poza autoryzowanymi punktami sprzedaży (Facebook\, aukcje internetow
 e\, systemy odsprzedaży biletów itp.) stwarza ryzyko zakupu biletów nie
 oryginalnych lub nieważnych\, które nie umożliwią wejścia na koncert.
 \n\nPatroni medialni: Radio RAM\, Example.pl\, Outrave\, Laif
ATTACH;FMTTYPE=image/jpeg:https://night4u.pl/wp-content/uploads/2019/10/86
 135_image_73388520_10156793693909492_5971326824431484928_o.jpg
CATEGORIES:dolnośląskie
LOCATION:Stary Klasztor\, Purkyniego 1\, Wroclaw\, 50-155\, Poland
GEO:51.110198;17.039162
X-APPLE-STRUCTURED-LOCATION;VALUE=URI;X-ADDRESS=Purkyniego 1\, Wroclaw\, 50
 -155\, Poland;X-APPLE-RADIUS=100;X-TITLE=Stary Klasztor:geo:51.110198,17.0
 39162
END:VEVENT
BEGIN:VTIMEZONE
TZID:Europe/Warsaw
X-LIC-LOCATION:Europe/Warsaw
BEGIN:STANDARD
DTSTART:20191027T020000
TZOFFSETFROM:+0200
TZOFFSETTO:+0100
TZNAME:CET
END:STANDARD
END:VTIMEZONE
END:VCALENDAR