BEGIN:VCALENDAR
VERSION:2.0
PRODID:-//wp-events-plugin.com//7.2.3.1//EN
TZID:Europe/Warsaw
X-WR-TIMEZONE:Europe/Warsaw
BEGIN:VEVENT
UID:32905@night4u.pl
DTSTART;TZID=Europe/Warsaw:20191215T200000
DTEND;TZID=Europe/Warsaw:20191215T230000
DTSTAMP:20191215T022853Z
URL:https://night4u.pl/wydarzenia/kamp-w-tamie-15-12-live-tour/
SUMMARY:Kamp! w Tamie - 15.12 / Live Tour
DESCRIPTION:TBA Music i Makes it happen prezentują:\n\nKAMP! Live \n\n19:0
 0 Otwarcie drzwi \n20:00 KAMP!\n\nZ materiału zebranego podczas letnich k
 oncertów festiwalowych zespół wydaje nowy album Live - premiera odbyła
  się 22 października i oficjalnie rozpoczęła ich jesienną trasę.\n\n
 BILETY: 🎫 🎫 🎫 🎫\n\nwww.biletomat.pl/muzyka-klubowa/kamp-live-t
 our-poznan-8679/\n\nhttps://empikbilety.pl/wydarzenie/kamp-w-tamie-live-to
 ur/grudzien-2019\n\nhttps://goingapp.pl/evt/2174223/kamp-w-tamie-live-tour
 \n\nKAMP! wraca do formuły full live act'ów. Po ostatniej płycie "Dare"
 \, szybko okazało się\, że większości tych utworów nie da się prze
 łożyć na materiał koncertowy. Po krótkiej frustracji zespół zdecydo
 wał się na zmiany. Przez ostatnie dwa lata ewoluował ich sposób konsum
 owania muzyki i gromadziła się w nich potrzeba przekazania swojej pasji 
 do muzyki klubowej w szczery i mocny sposób. Prosto z serca wypłynął n
 owy materiał na rdzennie inną formułę live. Wracają do korzeni. Pozwa
 lają sobie na większą improwizację i zabawę\, łącząc to z zupełni
 e nową jakością podczas występów na żywo.
ATTACH;FMTTYPE=image/jpeg:https://night4u.pl/wp-content/uploads/2019/10/80
 865_image_74211333_10156793661049492_2726941312518455296_o.jpg
CATEGORIES:wielkopolskie
LOCATION:Tama\, ul. Niezłomnych 2\, Poznan\, 61-714\, Poland
GEO:52.402524;16.922364
X-APPLE-STRUCTURED-LOCATION;VALUE=URI;X-ADDRESS=ul. Niezłomnych 2\, Poznan
 \, 61-714\, Poland;X-APPLE-RADIUS=100;X-TITLE=Tama:geo:52.402524,16.922364
END:VEVENT
BEGIN:VTIMEZONE
TZID:Europe/Warsaw
X-LIC-LOCATION:Europe/Warsaw
BEGIN:STANDARD
DTSTART:20191027T020000
TZOFFSETFROM:+0200
TZOFFSETTO:+0100
TZNAME:CET
END:STANDARD
END:VTIMEZONE
END:VCALENDAR