BEGIN:VCALENDAR
VERSION:2.0
PRODID:-//wp-events-plugin.com//7.2.3.1//EN
TZID:Europe/Warsaw
X-WR-TIMEZONE:Europe/Warsaw
BEGIN:VEVENT
UID:21236@night4u.pl
DTSTART;TZID=Europe/Warsaw:20190706T220000
DTEND;TZID=Europe/Warsaw:20190707T060000
DTSTAMP:20190704T192004Z
URL:https://night4u.pl/wydarzenia/kapitan-drozda-danny-v/
SUMMARY:Kapitan Drozda & Danny V
DESCRIPTION:► Kapitan Drozda - Kilka lat temu znalazł magnetofony szpulo
 we u cioci na strychu. Tak zaczęła się SZPULA! – cykliczna impreza di
 sco\, ciesząca się dużą popularnością nie tylko w Trójmieście. W k
 ońcu szpula się skończyła i szpulowce wylądowały w piwnicy. Nie znie
 chęciło go to do sukcesywnego wgłębiania się w house i disco\, co od 
 lat udowadnia w trójmiejskich klubach i lokalach. Ponadto zbiera siły i 
 sprzęt do tworzenia własnych rytmów i melodii. Szpulowce nadal leża w 
 piwnicy i czekają na lepsze czasy.\n\n80's/90's/Clásicos/Kiełbasa/Zapom
 niane hity\n\n► Danny V. - wysoki blondyn o niebieskich oczach. Pochodzi
  ze Lwowa\, ale na dobre zadomowił się już w Trójmieście. Miesza ró
 żne style\, ale kocha elektronikę – pozytywna energia\, gitara i dużo
  basu.\n\nStart: 22:00\nWjazd: free! // selekcja
ATTACH;FMTTYPE=image/jpeg:https://night4u.pl/wp-content/uploads/2019/07/50
 642_image_65698570_10157248086838745_6929387118812725248_o.jpg
CATEGORIES:pomorskie
LOCATION:Cafe Absinthe Gdańsk\, Targ Węglowy(Teatr Wybrzeże)\, Gdansk\, 
 80-834\, Poland
GEO:54.350816;18.64826
X-APPLE-STRUCTURED-LOCATION;VALUE=URI;X-ADDRESS=Targ Węglowy(Teatr Wybrze
 że)\, Gdansk\, 80-834\, Poland;X-APPLE-RADIUS=100;X-TITLE=Cafe Absinthe G
 dańsk:geo:54.350816,18.64826
END:VEVENT
BEGIN:VTIMEZONE
TZID:Europe/Warsaw
X-LIC-LOCATION:Europe/Warsaw
BEGIN:DAYLIGHT
DTSTART:20190331T030000
TZOFFSETFROM:+0100
TZOFFSETTO:+0200
TZNAME:CEST
END:DAYLIGHT
END:VTIMEZONE
END:VCALENDAR