BEGIN:VCALENDAR
VERSION:2.0
PRODID:-//wp-events-plugin.com//7.2.3.1//EN
TZID:Europe/Warsaw
X-WR-TIMEZONE:Europe/Warsaw
BEGIN:VEVENT
UID:5651@night4u.pl
DTSTART;TZID=Europe/Warsaw:20190207T190000
DTEND;TZID=Europe/Warsaw:20190207T230000
DTSTAMP:20190131T125911Z
URL:https://night4u.pl/wydarzenia/karaoke-11/
SUMMARY:Karaoke
DESCRIPTION:Śpiewać każdy może? Sprawdzamy to w czwartki! :) Zapraszamy
  na wieczór z karoke. :) Kto wpada?
ATTACH;FMTTYPE=image/jpeg:https://night4u.pl/wp-content/uploads/2019/01/17
 249_image_50792605_1916881898409156_3964003481311772672_o.jpg
CATEGORIES:śląskie
LOCATION:Pin-Up\, Plac Kou015Bciuszki 1\, Bytom\, 41-902\, Poland
GEO:50.347462;18.920302
X-APPLE-STRUCTURED-LOCATION;VALUE=URI;X-ADDRESS=Plac Kou015Bciuszki 1\, Byt
 om\, 41-902\, Poland;X-APPLE-RADIUS=100;X-TITLE=Pin-Up:geo:50.347462,18.92
 0302
END:VEVENT
BEGIN:VTIMEZONE
TZID:Europe/Warsaw
X-LIC-LOCATION:Europe/Warsaw
BEGIN:STANDARD
DTSTART:20181028T020000
TZOFFSETFROM:+0200
TZOFFSETTO:+0100
TZNAME:CET
END:STANDARD
END:VTIMEZONE
END:VCALENDAR