BEGIN:VCALENDAR
VERSION:2.0
PRODID:-//wp-events-plugin.com//7.2.3.1//EN
TZID:Europe/Warsaw
X-WR-TIMEZONE:Europe/Warsaw
BEGIN:VEVENT
UID:39474@night4u.pl
DTSTART;TZID=Europe/Warsaw:20191212T220000
DTEND;TZID=Europe/Warsaw:20191213T020000
DTSTAMP:20191212T211914Z
URL:https://night4u.pl/wydarzenia/karaoke-night-dj-tvardy-jazda-7/
SUMMARY:Karaoke Night- Dj Tvardy &amp\; Jazda
DESCRIPTION:Jak w każdy czwartek zapraszamy wszystkich amatorów nocnych 
 śpiewów na Karaoke z niezastąpionym Jazdą ♥ czekamy na Was w Coffee 
 Planet 🥃🥂\n\nSpecjalne promo na barze!\n\nWśród uczestników wylos
 ujemy nagrodę: 0.5 l wódki + soft. \nIm więcej piosenek zaśpiewasz tym
  większa szansa na wygraną :) Losowanie o 01:00 !!\n\nParkiet rozgrzewa
 ć będzie - Dj Tvardy\nStartujemy o 22:00. \n\nDo zobaczenia!
ATTACH;FMTTYPE=image/jpeg:https://night4u.pl/wp-content/uploads/2019/12/11
 6640_image_79164344_2708565815872018_2699179004694364160_o.jpg
CATEGORIES:dolnośląskie
LOCATION:CoffeePlanet Wrocław\, Rynek 7\, Wroclaw\, 50-106\, Poland
GEO:51.1102;17.03022
X-APPLE-STRUCTURED-LOCATION;VALUE=URI;X-ADDRESS=Rynek 7\, Wroclaw\, 50-106\
 , Poland;X-APPLE-RADIUS=100;X-TITLE=CoffeePlanet Wrocław:geo:51.1102,17.0
 3022
END:VEVENT
BEGIN:VTIMEZONE
TZID:Europe/Warsaw
X-LIC-LOCATION:Europe/Warsaw
BEGIN:STANDARD
DTSTART:20191027T020000
TZOFFSETFROM:+0200
TZOFFSETTO:+0100
TZNAME:CET
END:STANDARD
END:VTIMEZONE
END:VCALENDAR