BEGIN:VCALENDAR
VERSION:2.0
PRODID:-//wp-events-plugin.com//7.2.3.1//EN
TZID:Europe/Warsaw
X-WR-TIMEZONE:Europe/Warsaw
BEGIN:VEVENT
UID:35476@night4u.pl
DTSTART;TZID=Europe/Warsaw:20191108T200000
DTEND;TZID=Europe/Warsaw:20191109T030000
DTSTAMP:20191107T215708Z
URL:https://night4u.pl/wydarzenia/karaoke-piatek-after-falkon/
SUMMARY:Karaoke! - Piątek - after Falkon
DESCRIPTION:Wyjątkowo w piątek\, ale i okazja ku temu słuszna raz: że g
 odnie należy rozpocząć długi weekend\, a kolejna sprawa ...\n będzie 
 to fantastyczne Karaoke po pierwszym dniu FALKON. \;)\n\nZapraszamy. \n \n
 08.11.2019r. /piątek/ \nstart: 20:00 \nWstęp Wolny! \nRezerwacja miejsc:
  81 446 79 91
ATTACH;FMTTYPE=image/jpeg:https://night4u.pl/wp-content/uploads/2019/11/93
 342_image_75540169_1491197184360604_7200658180941021184_o.jpg
CATEGORIES:lubelskie
LOCATION:Klub Studencki Kazik\, ul. Nadbystrzycka 40A\, Lublin\, 20-618\, P
 oland
GEO:51.235135;22.547241
X-APPLE-STRUCTURED-LOCATION;VALUE=URI;X-ADDRESS=ul. Nadbystrzycka 40A\, Lub
 lin\, 20-618\, Poland;X-APPLE-RADIUS=100;X-TITLE=Klub Studencki Kazik:geo:
 51.235135,22.547241
END:VEVENT
BEGIN:VTIMEZONE
TZID:Europe/Warsaw
X-LIC-LOCATION:Europe/Warsaw
BEGIN:STANDARD
DTSTART:20191027T020000
TZOFFSETFROM:+0200
TZOFFSETTO:+0100
TZNAME:CET
END:STANDARD
END:VTIMEZONE
END:VCALENDAR