BEGIN:VCALENDAR
VERSION:2.0
PRODID:-//wp-events-plugin.com//7.2.3.1//EN
TZID:Europe/Warsaw
X-WR-TIMEZONE:Europe/Warsaw
BEGIN:VEVENT
UID:32600@night4u.pl
DTSTART;TZID=Europe/Warsaw:20191026T200000
DTEND;TZID=Europe/Warsaw:20191027T020000
DTSTAMP:20191026T215707Z
URL:https://night4u.pl/wydarzenia/karaoke-sobota-wstep-wolny-27/
SUMMARY:Karaoke - Sobota /Wstęp Wolny/
DESCRIPTION:Spędź ten wieczór z nami i poczuj się jak gwiazda.\nMaryla 
 Rodowicz\, Rihanna\, Zenek Martyniuk.. a może Sławomir?\nNie ważne w ko
 go się wcielisz\, ważne ile serca w to włożysz i jak bardzo podbijesz 
 serca publiczności!!\n\nTel: 81 446 79 91\nZapraszamy!! :)
ATTACH;FMTTYPE=image/jpeg:https://night4u.pl/wp-content/uploads/2019/10/78
 732_image_73497960_1468473013299688_2496119002548404224_o.jpg
CATEGORIES:lubelskie
LOCATION:Klub Studencki Kazik\, ul. Nadbystrzycka 40A\, Lublin\, 20-618\, P
 oland
GEO:51.235135;22.547241
X-APPLE-STRUCTURED-LOCATION;VALUE=URI;X-ADDRESS=ul. Nadbystrzycka 40A\, Lub
 lin\, 20-618\, Poland;X-APPLE-RADIUS=100;X-TITLE=Klub Studencki Kazik:geo:
 51.235135,22.547241
END:VEVENT
BEGIN:VTIMEZONE
TZID:Europe/Warsaw
X-LIC-LOCATION:Europe/Warsaw
BEGIN:DAYLIGHT
DTSTART:20190331T030000
TZOFFSETFROM:+0100
TZOFFSETTO:+0200
TZNAME:CEST
END:DAYLIGHT
BEGIN:STANDARD
DTSTART:20191027T020000
TZOFFSETFROM:+0200
TZOFFSETTO:+0100
TZNAME:CET
END:STANDARD
END:VTIMEZONE
END:VCALENDAR