BEGIN:VCALENDAR
VERSION:2.0
PRODID:-//wp-events-plugin.com//7.2.3.1//EN
TZID:Europe/Warsaw
X-WR-TIMEZONE:Europe/Warsaw
BEGIN:VEVENT
UID:32611@night4u.pl
DTSTART;TZID=Europe/Warsaw:20191022T200000
DTEND;TZID=Europe/Warsaw:20191023T040000
DTSTAMP:20200401T080750Z
URL:https://night4u.pl/wydarzenia/karaoke-spiewac-kazdy-moze-2/
SUMMARY:Karaoke - Śpiewać Każdy Może!
DESCRIPTION:Czas wziąć mikrofon w dłoń i pokazać\, że ma się odwagę
  dobrze bawić. Tego wieczora to jest najważniejsze\, a nie talent muzycz
 ny.\n\nWeź przyjaciół\, śpiewajcie pojedynczo\, duetami czy całymi gr
 upami\, pokaż\, jak dobrze można się bawić rzucając wokal na hity do 
 których niejednokrotnie rozgrzewaliśmy parkiet do rana!\n\nRock czy pop?
  Bez znaczenia! Nasza biblioteczka muzyczna ma naprawdę ogromne zasoby ut
 worów w których każdy znajdzie coś dla siebie!\n\nSTART: 20\nWEJŚCIE:
  Free!\n__________________________________________________\n\nZnajdź nas 
 również na:\nSnapchat: silence_club || Instagram: @silenceclub\n________
 __________________________________________\n\n22.10 / Wtorek\nSilenceClub\
 nRadziszewskiego 8\nLublin
ATTACH;FMTTYPE=image/jpeg:https://night4u.pl/wp-content/uploads/2019/10/78
 827_image_74495399_3378450432179942_6760662824692744192_o.jpg
CATEGORIES:lubelskie
LOCATION:SilenceClub\, Radziszewskiego 8\, Lublin\, 20-031\, Poland
GEO:51.246457;22.543797
X-APPLE-STRUCTURED-LOCATION;VALUE=URI;X-ADDRESS=Radziszewskiego 8\, Lublin\
 , 20-031\, Poland;X-APPLE-RADIUS=100;X-TITLE=SilenceClub:geo:51.246457,22.
 543797
END:VEVENT
BEGIN:VTIMEZONE
TZID:Europe/Warsaw
X-LIC-LOCATION:Europe/Warsaw
BEGIN:DAYLIGHT
DTSTART:20190331T030000
TZOFFSETFROM:+0100
TZOFFSETTO:+0200
TZNAME:CEST
END:DAYLIGHT
END:VTIMEZONE
END:VCALENDAR