BEGIN:VCALENDAR
VERSION:2.0
PRODID:-//wp-events-plugin.com//7.2.3.1//EN
TZID:Europe/Warsaw
X-WR-TIMEZONE:Europe/Warsaw
BEGIN:VEVENT
UID:32603@night4u.pl
DTSTART;TZID=Europe/Warsaw:20191019T200000
DTEND;TZID=Europe/Warsaw:20191020T023000
DTSTAMP:20191019T221043Z
URL:https://night4u.pl/wydarzenia/karaoke-taneczne/
SUMMARY:Karaoke taneczne
DESCRIPTION:W najbliższą sobotę (19.10.) zapraszamy na specjalne wydanie
  karaoke. Będzie można zaśpiewać swoje ulubione piosenki\, a także za
 tańczyć w rytm muzyki. Jak zwykle przewidziane są nagrody za najlepsze 
 wykonania oraz promocje w barze! Imprezę poprowadzi Asia. Życzymy dobrej
  zabawy!
ATTACH;FMTTYPE=image/jpeg:https://night4u.pl/wp-content/uploads/2019/10/78
 749_image_72525849_2583100288394905_2900995171426500608_n.jpg
CATEGORIES:lubelskie
LOCATION:Rock Pub Ramzes\, ul. H. Kołłątaja 3\, Lublin\, 20-006\, Poland
GEO:51.247324;22.557731
X-APPLE-STRUCTURED-LOCATION;VALUE=URI;X-ADDRESS=ul. H. Kołłątaja 3\, Lub
 lin\, 20-006\, Poland;X-APPLE-RADIUS=100;X-TITLE=Rock Pub Ramzes:geo:51.24
 7324,22.557731
END:VEVENT
BEGIN:VTIMEZONE
TZID:Europe/Warsaw
X-LIC-LOCATION:Europe/Warsaw
BEGIN:DAYLIGHT
DTSTART:20190331T030000
TZOFFSETFROM:+0100
TZOFFSETTO:+0200
TZNAME:CEST
END:DAYLIGHT
END:VTIMEZONE
END:VCALENDAR