BEGIN:VCALENDAR
VERSION:2.0
PRODID:-//wp-events-plugin.com//7.2.3.1//EN
TZID:Europe/Warsaw
X-WR-TIMEZONE:Europe/Warsaw
BEGIN:VEVENT
UID:10413@night4u.pl
DTSTART;TZID=Europe/Warsaw:20190320T210000
DTEND;TZID=Europe/Warsaw:20190321T000000
DTSTAMP:20190318T195745Z
URL:https://night4u.pl/wydarzenia/karaoke-w-gebie-3/
SUMMARY:Karaoke w Gębie 3
DESCRIPTION:KARAOKE! ?\n\nBo kto nie lubi śpiewać?! ??️\nJak śpiewa kl
 asyk "każdy może\, trochę lepiej lub trochę gorzej\, ale nie o to chod
 zi jak co komu wychodzi!" ?\nTak bardzo popularna forma rozrywki zawita zn
 owu do Gęby! ?\n\nJuż 20 marca (środa ) zawiśnie ekran\, na którym wy
 świetlać będziemy na wasze życzenie największe hity jakie słyszał 
 świat!\n\n20.03.2019\n21:00\nGęba
ATTACH;FMTTYPE=image/jpeg:https://night4u.pl/wp-content/uploads/2019/03/27
 494_image_53766519_3164614493564437_6782890135148036096_n.jpg
CATEGORIES:lubuskie
LOCATION:Klub Gęba - Zielonogórskie Zagłębie Kabaretowe\, Aleja Wojska 
 Polskiego 65\, Zielona Góra\, Poland
GEO:51.940272;15.474431
X-APPLE-STRUCTURED-LOCATION;VALUE=URI;X-ADDRESS=Aleja Wojska Polskiego 65\,
  Zielona Góra\, Poland;X-APPLE-RADIUS=100;X-TITLE=Klub Gęba - Zielonogó
 rskie Zagłębie Kabaretowe:geo:51.940272,15.474431
END:VEVENT
BEGIN:VTIMEZONE
TZID:Europe/Warsaw
X-LIC-LOCATION:Europe/Warsaw
BEGIN:STANDARD
DTSTART:20181028T020000
TZOFFSETFROM:+0200
TZOFFSETTO:+0100
TZNAME:CET
END:STANDARD
END:VTIMEZONE
END:VCALENDAR