BEGIN:VCALENDAR
VERSION:2.0
PRODID:-//wp-events-plugin.com//7.2.3.1//EN
TZID:Europe/Warsaw
X-WR-TIMEZONE:Europe/Warsaw
BEGIN:VEVENT
UID:28597@night4u.pl
DTSTART;TZID=Europe/Warsaw:20191008T200000
DTEND;TZID=Europe/Warsaw:20191009T030000
DTSTAMP:20191011T070006Z
URL:https://night4u.pl/wydarzenia/karaoke-z-muzyka-na-zywo/
SUMMARY:Karaoke - z muzyką na żywo!
DESCRIPTION:Wiele osób marzy o zostaniu gwiazdą\, my dajemy Wam tą możl
 iwość!\nChwyć za mikrofon i pokaż\, że potrafisz zaśpiewać!\nWszyst
 kich odważnych będzie wspomagał zespół! Razem dacie radę! \nJeśli n
 ie umiesz...to dalej nie problem!\nPrzecież każdy lubi niemal wykrzycze
 ń wersy ulubionych piosenek\, weź swoich znajomych. Wspólnie stwórzmy 
 klub muzyczny o którym każdy marzył w Lublinie!\n\nSTART: 20\nWEJŚCIE:
  Free!\n__________________________________________________\n\nZnajdź nas 
 również na:\nSnapchat: silence_club || Instagram: @silenceclub\n________
 __________________________________________\n\n8.10.2019 /wtorek/\nSilenceC
 lub\nRadziszewskiego 8\nLublin
ATTACH;FMTTYPE=image/jpeg:https://night4u.pl/wp-content/uploads/2019/09/66
 184_image_71003871_3309018815789771_6435330300540092416_o.jpg
CATEGORIES:lubelskie
LOCATION:SilenceClub\, Radziszewskiego 8\, Lublin\, 20-031\, Poland
GEO:51.246457;22.543797
X-APPLE-STRUCTURED-LOCATION;VALUE=URI;X-ADDRESS=Radziszewskiego 8\, Lublin\
 , 20-031\, Poland;X-APPLE-RADIUS=100;X-TITLE=SilenceClub:geo:51.246457,22.
 543797
END:VEVENT
BEGIN:VTIMEZONE
TZID:Europe/Warsaw
X-LIC-LOCATION:Europe/Warsaw
BEGIN:DAYLIGHT
DTSTART:20190331T030000
TZOFFSETFROM:+0100
TZOFFSETTO:+0200
TZNAME:CEST
END:DAYLIGHT
END:VTIMEZONE
END:VCALENDAR