BEGIN:VCALENDAR
VERSION:2.0
PRODID:-//wp-events-plugin.com//7.2.3.1//EN
TZID:Europe/Warsaw
X-WR-TIMEZONE:Europe/Warsaw
BEGIN:VEVENT
UID:7173@night4u.pl
DTSTART;TZID=Europe/Warsaw:20190308T200000
DTEND;TZID=Europe/Warsaw:20190309T020000
DTSTAMP:20190213T180815Z
URL:https://night4u.pl/wydarzenia/kararocke-spiewajacy-dzien-kobiet/
SUMMARY:KaraROCKe - Śpiewający Dzień Kobiet! :)
DESCRIPTION:Dzień Kobiet będziemy obchodzić śpiewająco w Klubie Metro!
 \nPiwko dla każdej kobiety\, dziewczyny\, matki\, żony i kochanki śpiew
 ającej solo :)\nBędą śpiewy\, tańce i hulanki - będzie się działo 
 :)\nJak powiedział poeta nieznany: "Chłopaku\, będą kobiety\, piwo i 
 śpiew"! \;)\n\nOkoło 4000 utworów do wyboru!\nDuży ekran! Koncertowe n
 agłośnienie!\nDobre podkłady (0 midi)! 2 mikrofony!\nWolny parkiet na k
 tórym można\, a nawet trzeba uprawiać tańce!\n...oraz duży wybór nap
 ojów rozweselających w dobrej cenie! \;)\n\nLubisz śpiewać?\nMasz czas
 ami ochotę stanąć przy mikrofonie?\nCzujesz\, że jesteś niedoszłą g
 wiazdą Rock'a?\nJeśli tak\, to ta impreza jest dla Ciebie :)\n\nZaprasza
 my wszystkich\, którzy lubią wspólne śpiewanie i dobrą zabawę :)\nŚ
 piewających przy goleniu\, w windzie i samochodzie. Także tych\, którzy
  "męczą" swoim talentem rodzinę i znajomych :)\nBędzie można śpiewa
 ć przede wszystkim niezapomniane\, ponadczasowe hity Rockowe oraz stare\,
  dobre polskie i zagraniczne kawałki :)\n\nPolskie\nhttps://www.dropbox.c
 om/s/xihyp5fi1ms5y6f/KaraROCKe%20-%20Polskie.txt?dl=0\n\nZagraniczne\nhttp
 s://www.dropbox.com/s/txox0fksvh404dw/KaraROCKe%20-%20Zagraniczne.txt?dl=0
 \n\nWstęp FREE!\nPonad 25 gatunków piwa\, cydry\, shoty\, drinki i dużo
  różnych alkoholi!\nProwadzi: Jaca
ATTACH;FMTTYPE=image/jpeg:https://night4u.pl/wp-content/uploads/2019/02/20
 663_image_51763959_2073839479398746_5696092585525772288_o.jpg
CATEGORIES:pomorskie
LOCATION:Klub Medyk\, ul. Dębowa 7\, Gdansk\, 80-204\, Poland
GEO:54.361387;18.629299
X-APPLE-STRUCTURED-LOCATION;VALUE=URI;X-ADDRESS=ul. Dębowa 7\, Gdansk\, 80
 -204\, Poland;X-APPLE-RADIUS=100;X-TITLE=Klub Medyk:geo:54.361387,18.62929
 9
END:VEVENT
BEGIN:VTIMEZONE
TZID:Europe/Warsaw
X-LIC-LOCATION:Europe/Warsaw
BEGIN:STANDARD
DTSTART:20181028T020000
TZOFFSETFROM:+0200
TZOFFSETTO:+0100
TZNAME:CET
END:STANDARD
END:VTIMEZONE
END:VCALENDAR