BEGIN:VCALENDAR
VERSION:2.0
PRODID:-//wp-events-plugin.com//7.2.3.1//EN
TZID:Europe/Warsaw
X-WR-TIMEZONE:Europe/Warsaw
BEGIN:VEVENT
UID:4425@night4u.pl
DTSTART;TZID=Europe/Warsaw:20190223T200000
DTEND;TZID=Europe/Warsaw:20190224T050000
DTSTAMP:20190120T191948Z
URL:https://night4u.pl/wydarzenia/karnawalowa-sobota-w-pewexie-2/
SUMMARY:Karnawałowa Sobota w Pewexie!
DESCRIPTION:Karnawałowa Sobota w Pewexie! ?❤️ Serdecznie zapraszamy 23
 .02.2019r. do Pewexu❤️\nTego dnia obowiązywać będą maski\, peruki\
 , okulary\, pióra i inne akcesoria karnawałowe... ? Liczymy na Waszą in
 wencję :) \nWszystkie osoby w karnawałowych gadżetach wejdą do klub gr
 atis! ❤️\n\nDodatkowo promocje na barze na pełne pasji kolorowe\, roz
 grzewające atmosferę drinki! ??\n\nTańce na barze -zwycięzca otrzyma b
 utelkę szampana?\nDodatkowo akcja "Szczęśliwy bilet- wygraj szampana"!\
 nŚwietne promocje i tańce na barze- czyli wszystko co zapowiada świetn
 ą imprezę! \n\nZachęcamy do zorganizowania urodzin imienin\, w gronie p
 rzyjaciół ❤️proponujemy atrakcyjne pakiety: Karnawałowe\, \nImienin
 owe\, Urodzinowe\, pakiety towarzyskie ?\n\nImpreza do białego rana gwara
 ntowana!\nNajlepsze hity disco lat 80'\, 90' 2000?❤️?\n\nJeśli chcesz
  wejść za darmo- zaproś do wydarzenia minimum 100 osób! ?\nWrzuć zdj
 ęcie ss na wydarzenie z zaproszonymi gośćmi? \n\n☎️ rezerwacje loż
 y: 501-701-434\nMail: clubpewex@gmail.com \n\n#spotkanie towarzyskie\n#uro
 dziny\n#imieniny\n#karnawał\n#Wieczór Panieński\n#Wieczór kawalerski\n
 Zachęcamy do zapoznania się z naszą ofertą pakietową ❣️\n\n\nGdzi
 e? Klub Muzyczny Pewex\,\nNarutowicza 28\nDress code: klubowa elegancja\nS
 tart: 20:00\nWstęp: 10zł/ osoba\nSelekcja: 21+
ATTACH;FMTTYPE=image/jpeg:https://night4u.pl/wp-content/uploads/2019/01/14
 716_image_50110661_1998842100169151_4837875944175697920_o.jpg
CATEGORIES:łódzkie
LOCATION:Klub Muzyczny Pewex\, Łódź\, Poland
GEO:51.77122;19.46136
X-APPLE-STRUCTURED-LOCATION;VALUE=URI;X-ADDRESS=Łódź\, Poland;X-APPLE-RA
 DIUS=100;X-TITLE=Klub Muzyczny Pewex:geo:51.77122,19.46136
END:VEVENT
BEGIN:VTIMEZONE
TZID:Europe/Warsaw
X-LIC-LOCATION:Europe/Warsaw
BEGIN:STANDARD
DTSTART:20181028T020000
TZOFFSETFROM:+0200
TZOFFSETTO:+0100
TZNAME:CET
END:STANDARD
END:VTIMEZONE
END:VCALENDAR