BEGIN:VCALENDAR
VERSION:2.0
PRODID:-//wp-events-plugin.com//7.2.3.1//EN
TZID:Europe/Warsaw
X-WR-TIMEZONE:Europe/Warsaw
BEGIN:VEVENT
UID:4422@night4u.pl
DTSTART;TZID=Europe/Warsaw:20190202T200000
DTEND;TZID=Europe/Warsaw:20190203T050000
DTSTAMP:20190120T191946Z
URL:https://night4u.pl/wydarzenia/karnawalowa-sobota-w-pewexie/
SUMMARY:Karnawałowa Sobota w Pewexie!
DESCRIPTION:Karnawałowa Sobota w Pewexie! ?❤️ Serdecznie zapraszamy 2.
 02.2019r. do Pewexu❤️\nTego dnia obowiązywać będą maski\, peruki\,
  okulary\, pióra i inne akcesoria karnawałowe... ? Liczymy na Waszą inw
 encję :) \nWszystkie osoby w karnawałowych gadżetach wejdą do klub gra
 tis! ❤️\n\nDodatkowo promocje na barze na pełne pasji kolorowe\, rozg
 rzewające atmosferę drinki! ??\n\nTańce na barze -zwycięzca otrzyma bu
 telkę szampana?\nDodatkowo akcja "Szczęśliwy bilet- wygraj szampana"!\n
 Świetne promocje i tańce na barze- czyli wszystko co zapowiada świetną
  imprezę! \n\nZachęcamy do zorganizowania urodzin imienin\, w gronie prz
 yjaciół ❤️proponujemy atrakcyjne pakiety: Karnawałowe\, \nImieninow
 e\, Urodzinowe\, pakiety towarzyskie ?\n\nImpreza do białego rana gwarant
 owana!\nNajlepsze hity disco lat 80'\, 90' 2000?❤️?\n\nJeśli chcesz w
 ejść za darmo- zaproś do wydarzenia minimum 100 osób! ?\nWrzuć zdjęc
 ie ss na wydarzenie z zaproszonymi gośćmi? \n\n☎️ rezerwacje loży: 
 501-701-434\nMail: clubpewex@gmail.com \n\n#spotkanie towarzyskie\n#urodzi
 ny\n#imieniny\n#karnawał\n#Wieczór Panieński\n#Wieczór kawalerski\nZac
 hęcamy do zapoznania się z naszą ofertą pakietową ❣️\n\n\nGdzie? 
 Klub Muzyczny Pewex\,\nNarutowicza 28\nDress code: klubowa elegancja\nStar
 t: 20:00\nWstęp: 10zł/ osoba\nSelekcja: 21+
ATTACH;FMTTYPE=image/jpeg:https://night4u.pl/wp-content/uploads/2019/01/14
 710_image_49895634_1998820776837950_7870026381596295168_n.jpg
CATEGORIES:łódzkie
LOCATION:Klub Muzyczny Pewex\, Łódź\, Poland
GEO:51.77122;19.46136
X-APPLE-STRUCTURED-LOCATION;VALUE=URI;X-ADDRESS=Łódź\, Poland;X-APPLE-RA
 DIUS=100;X-TITLE=Klub Muzyczny Pewex:geo:51.77122,19.46136
END:VEVENT
BEGIN:VTIMEZONE
TZID:Europe/Warsaw
X-LIC-LOCATION:Europe/Warsaw
BEGIN:STANDARD
DTSTART:20181028T020000
TZOFFSETFROM:+0200
TZOFFSETTO:+0100
TZNAME:CET
END:STANDARD
END:VTIMEZONE
END:VCALENDAR