BEGIN:VCALENDAR
VERSION:2.0
PRODID:-//wp-events-plugin.com//7.2.3.1//EN
TZID:Europe/Warsaw
X-WR-TIMEZONE:Europe/Warsaw
BEGIN:VEVENT
UID:39521@night4u.pl
DTSTART;TZID=Europe/Warsaw:20201016T200000
DTEND;TZID=Europe/Warsaw:20201016T223000
DTSTAMP:20200815T130224Z
URL:https://night4u.pl/wydarzenia/karolina-czarnecka-trasa-cud-lublin/
SUMMARY:Karolina Czarnecka ::: Trasa Cud ::: Lublin
DESCRIPTION:bilety :\nhttps://going.pl/karolina-czarnecka-dom-kultury \n35 
 zł przedsprzedaż \n45 zł w dniu koncertu\n\nKarolina Czarnecka porusza 
 się po różnych dziedzinach sztuki i bada ich granice. Zasłynęła pios
 enką „Hera koka hasz LSD”\, którą wykonała na Przeglądzie Piosenk
 i Aktorskiej we Wrocławiu w 2014 r. Jest dyplomowaną lalkarką i prawie 
 dyplomowaną aktorką dramatyczną\; współtworzy grupę teatralno-kabare
 tową Pożar w Burdelu i jest członkinią Żelaznych Wagin oraz Gangu Śr
 ódmieście. \nW 2014 roku artystka wydała debiutancką solową EP-kę 
 „Córka”\, na której znalazły się – obok przeboju z PPA – piose
 nki „Zjawa” czy „Demakijaż” z gościnnym udziałem L.U.C. Wiosną
  2018 r. miał swoją premierę album „Solarium 2.0” – promowany sin
 glami „Anaruk” i „Mój pokój” – będący swoistą kontynuacją 
 opowieści rozpoczętej na pierwszym krążku. Płytę promowała trasa ko
 ncertowa „Solarium 2.0 18/19”\, w ramach której artystka odwiedziła 
 ponad 20 miast. \nJesienią ukazała ię jej nowa płyta „Cud”\, któr
 ą zapowiadał singiel „Módl się za nami”. \n\nstart godzina 20:00\n
 wstęp od 19:00 \nLublin Klub Dom Kultury  \n\n\nKarolina Czarnecka w siec
 i:\nwww.facebook.com/KarolinaCzarneckaOfficial\nwww.instagram.com/Karolina
 _Czarnecka_\nwww.youtube.com/KarolinaCzarneckaOfficial\nhttps://spoti.fi/2
 KzS8lW\n\n\nPosłuchaj i zobacz:\n„Módl się za nami”: https://youtu.
 be/GFygQ1B0Z3E\n„Mój pokój”: https://youtu.be/1Dl-4D6qwLI\n„Anaruk
 ”: https://youtu.be/agc_pOojTvQ\n„Hera koka hasz LSD”: https://youtu
 .be/i_yIxAsR534
ATTACH;FMTTYPE=image/jpeg:https://night4u.pl/wp-content/uploads/2020/01/11
 6798_image_81975050_572373026674143_394768422908461056_o.jpg
CATEGORIES:lubelskie
LOCATION:Dom Kultury\, ul. Krakowskie Przedmieście 19\, Lublin\, 20-002\, 
 Poland
GEO:51.24787;22.56342
X-APPLE-STRUCTURED-LOCATION;VALUE=URI;X-ADDRESS=ul. Krakowskie Przedmieści
 e 19\, Lublin\, 20-002\, Poland;X-APPLE-RADIUS=100;X-TITLE=Dom Kultury:geo
 :51.24787,22.56342
END:VEVENT
BEGIN:VTIMEZONE
TZID:Europe/Warsaw
X-LIC-LOCATION:Europe/Warsaw
BEGIN:DAYLIGHT
DTSTART:20200329T030000
TZOFFSETFROM:+0100
TZOFFSETTO:+0200
TZNAME:CEST
END:DAYLIGHT
END:VTIMEZONE
END:VCALENDAR