BEGIN:VCALENDAR
VERSION:2.0
PRODID:-//wp-events-plugin.com//7.2.3.1//EN
TZID:Europe/Warsaw
X-WR-TIMEZONE:Europe/Warsaw
BEGIN:VEVENT
UID:3026@night4u.pl
DTSTART;TZID=Europe/Warsaw:20190126T210000
DTEND;TZID=Europe/Warsaw:20190127T000000
DTSTAMP:20190108T162555Z
URL:https://night4u.pl/wydarzenia/kartky-w-gdansku-bm-tour/
SUMMARY:Kartky w Gdańsku | BM TOUR
DESCRIPTION:Zapraszamy na premierowy koncert Kartky'ego w Gdańsku w ramach
  BLACK MAGIIC Tour!\n\nBILETY: https://ticketos.pl/event/1565/KARTKY-w-GDA
 nSKU.html\n\nWEJŚCIE: +16 ze zgodą rodziców\n\nDATA: 26.01.2019\nSTART:
  21.00\nWJAZD: 30 / 35 / 40\nMIEJSCE: Klub Medyk
ATTACH;FMTTYPE=image/jpeg:https://night4u.pl/wp-content/uploads/2019/01/10
 165_image_49673981_1932906556757104_8305365976115838976_o.jpg
CATEGORIES:pomorskie
LOCATION:Klub Medyk\, ul. Dębowa 7\, Gdansk\, 80-204\, Poland
GEO:54.361387;18.629299
X-APPLE-STRUCTURED-LOCATION;VALUE=URI;X-ADDRESS=ul. Dębowa 7\, Gdansk\, 80
 -204\, Poland;X-APPLE-RADIUS=100;X-TITLE=Klub Medyk:geo:54.361387,18.62929
 9
END:VEVENT
BEGIN:VTIMEZONE
TZID:Europe/Warsaw
X-LIC-LOCATION:Europe/Warsaw
BEGIN:STANDARD
DTSTART:20181028T020000
TZOFFSETFROM:+0200
TZOFFSETTO:+0100
TZNAME:CET
END:STANDARD
END:VTIMEZONE
END:VCALENDAR