BEGIN:VCALENDAR
VERSION:2.0
PRODID:-//wp-events-plugin.com//7.2.3.1//EN
TZID:Europe/Warsaw
X-WR-TIMEZONE:Europe/Warsaw
BEGIN:VEVENT
UID:51096@night4u.pl
DTSTART;TZID=Europe/Warsaw:20210926T200000
DTEND;TZID=Europe/Warsaw:20210926T220000
DTSTAMP:20210908T144812Z
URL:https://night4u.pl/wydarzenia/kartky-w-toruniu-kraina-lodu-x-outside-o
 f-society/
SUMMARY:Kartky w Toruniu | KRAINA LODU X OUTSIDE OF SOCIETY
DESCRIPTION:KARTKY | KRAINA LODU X OUTSIDE OF SOCIETY\n\n\nbilety: http://b
 it.ly/Kartky_OOS_Toruń_2021\ngdzie: TORUŃ | LIZARD KING\nkiedy: 26 IX 20
 21\n\noświadczenie: https://bit.ly/zgoda_covid\nzgoda: http://bit.ly/ZGOD
 A_NA_KONCERT\n\nwbijajcie na INSTA ➡ http://bit.ly/Pcjg_insta\nwbijajcie
  na FB ➡ http://bit.ly/fb_pcjg\n\n⚠Wstęp na koncert 16+ za pisemną z
 godą rodzica\n⚠Poniżej 16 lat\, wymagana obecność pełnoprawnego opi
 ekuna\n➡️ https://bit.ly/regulamin_PCJG
ATTACH;FMTTYPE=image/jpeg:https://night4u.pl/wp-content/uploads/2021/08/18
 6401_image_184888977_4115924685096045_5047909197303291123_n.jpg
CATEGORIES:kujawsko-pomorskie
LOCATION:Lizard King Toruń\, Kopernika 3\, Torun\, 87-100\, Poland
GEO:53.00939;18.60504
X-APPLE-STRUCTURED-LOCATION;VALUE=URI;X-ADDRESS=Kopernika 3\, Torun\, 87-10
 0\, Poland;X-APPLE-RADIUS=100;X-TITLE=Lizard King Toruń:geo:53.00939,18.6
 0504
END:VEVENT
BEGIN:VTIMEZONE
TZID:Europe/Warsaw
X-LIC-LOCATION:Europe/Warsaw
BEGIN:DAYLIGHT
DTSTART:20210328T030000
TZOFFSETFROM:+0100
TZOFFSETTO:+0200
TZNAME:CEST
END:DAYLIGHT
END:VTIMEZONE
END:VCALENDAR