BEGIN:VCALENDAR
VERSION:2.0
PRODID:-//wp-events-plugin.com//7.2.3.1//EN
TZID:Europe/Warsaw
X-WR-TIMEZONE:Europe/Warsaw
BEGIN:VEVENT
UID:43819@night4u.pl
DTSTART;TZID=Europe/Warsaw:20200131T190000
DTEND;TZID=Europe/Warsaw:20200131T210000
DTSTAMP:20200131T222957Z
URL:https://night4u.pl/wydarzenia/kasia-kowalska-z-zespolem-25-lecie-lubli
 n-2/
SUMMARY:Kasia Kowalska z zespołem - 25 lecie | Lublin
DESCRIPTION:Wokalistka\, kompozytorka\, autorka tekstów. Jedna z najbardzi
 ej rozpoznawalnych artystek na polskiej scenie muzycznej. Ma w swoim dorob
 ku wiele prestiżowych nagród w tym: Fryderyki\, Superjedynki\, Mtv Europ
 ean Music Awards\, oraz ponad milion sprzedanych płyt. Każdy z jej album
 ów pokrył się kilkukrotną platyną. Rok 2018 to dla Kasi Kowalskiej ro
 k wyjątkowy. Przede wszystkim obchodzi jubileusz 25-lecia pracy artystycz
 nej\, a po drugie wydaje swój nowy album\, na który jej fani czekają ju
 ż 10 lat. Jesienią odbędzie się jubileuszowa trasa koncertowa obejmuj
 ąca kilkanaście miast w całym kraju. Podczas koncertów nie zabraknie n
 ajwiększych przebojów artystki\, jak "Prowadź mnie"\, "Antidotum"\, "A 
 to co mam"\, “Spowiedź”\, “Być tak blisko”\, "Co może przynieś
 ć nowy dzień"\, "Coś optymistycznego"\, "To co dobre" i wielu innych\, 
 a także utworów z najnowszej płyty m.in. Promującego ją singla "Alann
 ah (Tak niewiele chcę)".\nCzeka nas piękne\, mistyczne widowisko przepe
 łnione emocjami\, niezwykłą energią wokalistki i wieloma znanymi piose
 nkami\, które Kasia Kowalska wylansowała na przestrzeni 25 lat swojej\na
 rtystycznej kariery.
ATTACH;FMTTYPE=image/jpeg:https://night4u.pl/wp-content/uploads/2020/01/14
 0970_image_75569714_2470797826323380_7191138115346497536_n.jpg
CATEGORIES:lubelskie
LOCATION:Csk Lublin\, Plac Teatralny 1\, Lublin\, Poland
GEO:51.246828;22.548665
X-APPLE-STRUCTURED-LOCATION;VALUE=URI;X-ADDRESS=Plac Teatralny 1\, Lublin\,
  Poland;X-APPLE-RADIUS=100;X-TITLE=Csk Lublin:geo:51.246828,22.548665
END:VEVENT
BEGIN:VTIMEZONE
TZID:Europe/Warsaw
X-LIC-LOCATION:Europe/Warsaw
BEGIN:STANDARD
DTSTART:20191027T020000
TZOFFSETFROM:+0200
TZOFFSETTO:+0100
TZNAME:CET
END:STANDARD
END:VTIMEZONE
END:VCALENDAR