BEGIN:VCALENDAR
VERSION:2.0
PRODID:-//wp-events-plugin.com//7.2.3.1//EN
TZID:Europe/Warsaw
X-WR-TIMEZONE:Europe/Warsaw
BEGIN:VEVENT
UID:49364@night4u.pl
DTSTART;TZID=Europe/Warsaw:20201220T170000
DTEND;TZID=Europe/Warsaw:20201220T230000
DTSTAMP:20200504T092146Z
URL:https://night4u.pl/wydarzenia/kat-roman-kostrzewski-20-12-krakow-klub-
 kwadrat/
SUMMARY:KAT &amp\; Roman Kostrzewski // 20.12 // Kraków - Klub Kwadrat
DESCRIPTION:KAT &amp\; Roman Kostrzewski wyruszy w trasę koncertową któr
 a będzie promować ich ostatni album "Popiór" wydany w 2019r.\n\nTrasa o
 bejmie miejsca\, do których zespół nie dotarł w zeszłym roku oraz mia
 sta\, w których koncerty były całkowicie wyprzedane. Jak wiemy pod sam 
 koniec roku 2019 zespół musiał odwołać kilka koncertów ze względu n
 a stan zdrowia Romana Kostrzewskiego.\n\nOstatnie wydawnictwo zespołu pro
 mują teledyski:\n\nKat &amp\; Roman Kostrzewski - Baba Zakonna (Official 
 Music Video)\nhttps://www.youtube.com/watch?v=Q7ShVsn26Kg\n\nKat &amp\; Ro
 man Kostrzewski - Modłości (Official Music Video)\nhttps://www.youtube.c
 om/watch?v=0i6jXXN_Edg\n\nKAT &amp\; ROMAN KOSTRZEWSKI - Kraków - Klub Kw
 adrat 20.12.2020\n\nBilety: \n50 PLN (przedsprzedaż)\n60 PLN (w dniu konc
 ertu)\n\nSprzedaż biletów rusza już wkrótce!
ATTACH;FMTTYPE=image/jpeg:https://night4u.pl/wp-content/uploads/2020/03/17
 0903_image_88136092_3613425872032292_6077829003916345344_o.jpg
CATEGORIES:małopolskie
LOCATION:Hala Forum\, Marii Konopnickiej 28\, Kraków\, 30-302\, Poland
GEO:50.04504;19.93639
X-APPLE-STRUCTURED-LOCATION;VALUE=URI;X-ADDRESS=Marii Konopnickiej 28\, Kra
 ków\, 30-302\, Poland;X-APPLE-RADIUS=100;X-TITLE=Hala Forum:geo:50.04504,
 19.93639
END:VEVENT
BEGIN:VTIMEZONE
TZID:Europe/Warsaw
X-LIC-LOCATION:Europe/Warsaw
BEGIN:STANDARD
DTSTART:20201025T020000
TZOFFSETFROM:+0200
TZOFFSETTO:+0100
TZNAME:CET
END:STANDARD
END:VTIMEZONE
END:VCALENDAR