BEGIN:VCALENDAR
VERSION:2.0
PRODID:-//wp-events-plugin.com//7.2.3.1//EN
TZID:Europe/Warsaw
X-WR-TIMEZONE:Europe/Warsaw
BEGIN:VEVENT
UID:24850@night4u.pl
DTSTART;TZID=Europe/Warsaw:20211002T193000
DTEND;TZID=Europe/Warsaw:20211002T230000
DTSTAMP:20210908T144750Z
URL:https://night4u.pl/wydarzenia/katowice-katowicka-noc-kabaretowa-2020/
SUMMARY:02.10.2021 • Katowice • Katowicka Noc Kabaretowa 2021
DESCRIPTION:02.10.2021 Katowice (godz. 19:30) Spodek\n▪️ Informacje i b
 ilety:\n www.kabaretowebilety.pl  oraz bezpośrednio tutaj ⤵️\nhttps:/
 /kabaretowebilety.pl/katowice-katowicka-noc-kabaretowa-2021/wydarzenie/172
 3\n\n------------------------------\nPolska Noc Kabaretowa 2021 Reaktywacj
 a\n\nAle się stęskniliśmy! \nPo miesiącach tworzenia nowości\, doprac
 owywania materiału w czterech ścianach\, niezliczonych próbach w domu\,
  wreszcie nadszedł czas\, kiedy znów możemy się spotkać. Wracamy z og
 romną energią i chęcią rozbawienia Was. Bo nic nie zastąpi najlepszej
  rozrywki na żywo!\nW tym roku zabieramy Was do studia telewizji śniadan
 iowej\, w której zaserwujemy dawkę aktualności\, spotkania z niezwykły
 mi osobistościami i rozmowy\, jakich jeszcze nie było. \nNa scenie jak z
 wykle mieszanka wybuchowa – zestaw artystów wybitnych: po raz pierwszy 
 w roli prowadzących Kabaret K2\, który pokochaliście podczas poprzednic
 h edycji PNK\, a także artyści z samej czołówki – Kabaret Skeczów M
 ęczących\, Igor Kwiatkowski\, Kabaret Smile\, Kabaret Nowaki oraz po raz
  pierwszy w naszej ekipie Kabaret Młodych Panów!\nPrzed Wami zupełnie n
 owa Polska Noc Kabaretowa złożona z samych premierowych skeczy\, dla wsz
 ystkich stęsknionych dobrej rozrywki i beztroskiej zabawy. A wszystko to 
 w bezpiecznych warunkach\, przy zachowaniu wszelkich środków ostrożnoś
 ci.
ATTACH;FMTTYPE=image/jpeg:https://night4u.pl/wp-content/uploads/2021/09/58
 423_image_184147277_3879846545397284_3623526462117790673_n.jpg
CATEGORIES:śląskie
LOCATION:Spodek\, Aleja Wojciecha Korfantego 35\, Katowice\, 40-005\, Polan
 d
GEO:50.26609;19.0252
X-APPLE-STRUCTURED-LOCATION;VALUE=URI;X-ADDRESS=Aleja Wojciecha Korfantego 
 35\, Katowice\, 40-005\, Poland;X-APPLE-RADIUS=100;X-TITLE=Spodek:geo:50.2
 6609,19.0252
END:VEVENT
BEGIN:VTIMEZONE
TZID:Europe/Warsaw
X-LIC-LOCATION:Europe/Warsaw
BEGIN:DAYLIGHT
DTSTART:20210328T030000
TZOFFSETFROM:+0100
TZOFFSETTO:+0200
TZNAME:CEST
END:DAYLIGHT
END:VTIMEZONE
END:VCALENDAR