BEGIN:VCALENDAR
VERSION:2.0
PRODID:-//wp-events-plugin.com//7.2.3.1//EN
TZID:Europe/Warsaw
X-WR-TIMEZONE:Europe/Warsaw
BEGIN:VEVENT
UID:27495@night4u.pl
DTSTART;TZID=Europe/Warsaw:20190924T190000
DTEND;TZID=Europe/Warsaw:20190924T210000
DTSTAMP:20190914T110801Z
URL:https://night4u.pl/wydarzenia/kawa-z-kandydatem-dr-krzysztof-smiszek-3
 /
SUMMARY:Kawa z Kandydatem - dr Krzysztof Śmiszek
DESCRIPTION:Kawa z kandydatem!\n? Chcesz poznać kandydata do Sejmu RP z Le
 wicy dr Krzysztofa Śmiszka? Chcesz dowiedzieć się\, o co będzie walczy
 ła Lewica w nowym parlamencie? Chcesz zgłosić swoje postulaty?\n? Przyj
 dź na spotkanie w każdy wtorek o godzinie 19.00 w Coffee Planet\, w Rynk
 u we Wrocławiu. \n⏳ Wybory już 13 października!\n\nPoniżej plan spot
 kań  ?\n\n3.09.  Hejt w Ministerstwie Sprawiedliwości. Czy jesteśmy bez
 pieczni we własnym kraju?  ⚖\nSpotkanie dotyczące afery hejterskiej w 
 Ministerstwie Sprawiedliwości. Porozmawiamy o tym\, jak bardzo takie wyda
 rzenia mogą zaszkodzić ustrojowi demokratycznemu w Polsce oraz co my –
  jako obywatele – możemy z tym zrobić.\n\n10.09 – Umierające płuca
  ziemi  ?\nPo ostatnich pożarach w lasach Amazonii i Syberii sytuacja nas
 zej planety znacznie się pogorszyła. Zastanowimy się co możemy zmieni
 ć lokalnie we Wrocławiu\, aby choć trochę pomóc Ziemi odzyskać swoj
 ą dawną kondycję.\n\n17.09 – Rola lewicy w Polsce  ✌?	\nWspólnie p
 orozmawiamy o tym dlaczego polski parlament po wyborach zasługuje na siln
 ą lewicową reprezentację\, a polskie społeczeństwo – na powrót pro
 gresywnych postulatów do przestrzeni publicznej.\n\n24.09. – Jakiego Wr
 ocławia chcemy? ?️\nMasz postulaty zmiany polityki miejskiej? Chcesz Wr
 ocławia Twoich marzeń? Przyjdź na spotkanie z kandydatem Lewicy dr Krzy
 sztofem Śmiszkiem i podziel się z nim Twoimi pomysłami na lepszy Wrocł
 aw. \n\n1.10 – Czy kobiety w Polsce mają równe z mężczyznami prawa? 
 ?\nPrzemoc wobec kobiet\, nierówne płace\, brak możliwości decydowania
  o swoim ciele – o tym będziemy rozmawiać z kandydatem na posła dr Kr
 zysztofem Śmiszkiem. \n\n8.10  LGBT – każdy ma prawo do szczęścia. C
 o Sejm może zrobić dla równości? ?️‍?\nRówność małżeńska\, z
 wiązki partnerskie\, tęczowe rodziny\, zwalczania dyskryminacji – to w
 szystko Lewica ma w programie. Przyjdź\, porozmawiaj z nami o tym co jesz
 cze politycy mogą zrobić dla społeczności LGBT.
ATTACH;FMTTYPE=image/jpeg:https://night4u.pl/wp-content/uploads/2019/09/64
 007_image_69447825_2996399423768711_1250826113047855104_o.jpg
CATEGORIES:dolnośląskie
LOCATION:CoffeePlanet Wrocław\, Rynek 7\, Wroclaw\, 50-106\, Poland
GEO:51.1102;17.03022
X-APPLE-STRUCTURED-LOCATION;VALUE=URI;X-ADDRESS=Rynek 7\, Wroclaw\, 50-106\
 , Poland;X-APPLE-RADIUS=100;X-TITLE=CoffeePlanet Wrocław:geo:51.1102,17.0
 3022
END:VEVENT
BEGIN:VTIMEZONE
TZID:Europe/Warsaw
X-LIC-LOCATION:Europe/Warsaw
BEGIN:DAYLIGHT
DTSTART:20190331T030000
TZOFFSETFROM:+0100
TZOFFSETTO:+0200
TZNAME:CEST
END:DAYLIGHT
END:VTIMEZONE
END:VCALENDAR