BEGIN:VCALENDAR
VERSION:2.0
PRODID:-//wp-events-plugin.com//7.2.3.1//EN
TZID:Europe/Warsaw
X-WR-TIMEZONE:Europe/Warsaw
BEGIN:VEVENT
UID:29903@night4u.pl
DTSTART;TZID=Europe/Warsaw:20200208T180000
DTEND;TZID=Europe/Warsaw:20200208T220000
DTSTAMP:20200331T154635Z
URL:https://night4u.pl/wydarzenia/kaz-balagane-ksiaze-nieporzadek-ilawa-18
 -10-iowa-music-bar/
SUMMARY:Kaz Bałagane - Polska Gotówkowa / Iława / IOWA Music Bar
DESCRIPTION:Kaz Bałagane na pierwszym koncercie w Iławie! \n\nArtysta zap
 rezentuje na żywo największe sztosy z przekroju całej swojej kariery mu
 zycznej. Zapraszamy na to niepowtarzalne wydarzenie\, kolejna okazja pręd
 ko się nie powtórzy. \n\n△△△△△△△△△△△△△△△
 △△△△△\n\nData: 8.02.2020  \nMiejsce: IOWA Music Bar\nStart: 20:0
 0\n\n△△△△△△△△△△△△△△△△△△△△\n\nBILET
 Y ONLINE:\nhttps://ticketos.pl/event/2644\n\nBILETY STACJONARNE:\n\nIŁAWA
  (dostępne od 20.09.2019)\n- IOWA Music Bar\, Władysława Broniewskiego\
 n\nOLSZTYN (dostępne od 23.09.2019)\n- Tabasco Mexico Grill &amp\; Bar\, 
 Kołłątaja 5 \n\n△△△△△△△△△△△△△△△△△△
 △△\n\nCENA BILETU:\n\nI PULA - 30 PLN \nII PULA - 35 PLN\nIII PULA - 4
 0 PLN\nW DNIU KONCERTU - 45 PLN\nVIP*\n\n*więcej informacji wkrótce
ATTACH;FMTTYPE=image/jpeg:https://night4u.pl/wp-content/uploads/2019/12/68
 911_image_80709936_2811584705585529_5441748655230943232_o.jpg
CATEGORIES:warmińsko-mazurskie
LOCATION:IOWA Music Bar\, Broniewskiego 3\, Iława\, 14-200\, Poland
GEO:53.582596;19.571879
X-APPLE-STRUCTURED-LOCATION;VALUE=URI;X-ADDRESS=Broniewskiego 3\, Iława\, 
 14-200\, Poland;X-APPLE-RADIUS=100;X-TITLE=IOWA Music Bar:geo:53.582596,19
 .571879
END:VEVENT
BEGIN:VTIMEZONE
TZID:Europe/Warsaw
X-LIC-LOCATION:Europe/Warsaw
BEGIN:STANDARD
DTSTART:20191027T020000
TZOFFSETFROM:+0200
TZOFFSETTO:+0100
TZNAME:CET
END:STANDARD
END:VTIMEZONE
END:VCALENDAR