BEGIN:VCALENDAR
VERSION:2.0
PRODID:-//wp-events-plugin.com//7.2.3.1//EN
TZID:Europe/Warsaw
X-WR-TIMEZONE:Europe/Warsaw
BEGIN:VEVENT
UID:1451@night4u.pl
DTSTART;TZID=Europe/Warsaw:20190129T180000
DTEND;TZID=Europe/Warsaw:20190129T200000
DTSTAMP:20181228T233047Z
URL:https://night4u.pl/wydarzenia/kazbek-i-elbrus-cala-prawda-o-kaukaskich
 -gigantach/
SUMMARY:Kazbek i Elbrus - cała prawda o Kaukaskich Gigantach
DESCRIPTION:Zapraszamy na spotkanie z Ewą Stachurą i Niką Gomiashvilim !
  Wstęp wolny - bardzo prosimy o wcześniejszą rezerwację miejsc (kto by
 ł na ostatnim spotkaniu o Kazbeku\, to wie jak bardo tłoczno było :)  -
 --> 13 43 277 11. \n\nKazbek (5047 m) to trzecia co do wysokości\, ale zd
 ecydowanie najpopularniejsza\, góra Gruzji. Elbrus (5642 m) to najwyższy
  szczyt Rosji i Kaukazu\, a dla większości również – najwyższy szcz
 yt Europy i jeden ze szczytów Korony Ziemi. Obie góry są wulkanami. O o
 bu mówi się\, że nie są trudne. Obie za cel swoich wypraw obierają w 
 ostatnich latach w szczególności Polacy. Obie zabrały życie wielu nasz
 ym rodakom. Kazbek przyciąga niezwykłą magią i tajemniczością\, a El
 brus … no kto nie chciałby stanąć na dachu Europy? \nPodczas tego spo
 tkania dowiecie się jak zorganizować wyprawę na Kazbek i Elbrus tak\, a
 by pozostała ona na zawsze najlepszą przygodą w waszym życiu. Dostanie
 cie konkretne rady: kiedy pojechać\, jaki sprzęt zabrać\, gdzie spać\,
  jak wybrać dobre ubezpieczenie? Dowiecie się która droga jest najłatw
 iejsza\, w których butach odmrozicie sobie nogi\, gdzie można kupić gaz
  do kuchenek turystycznych i jak przekroczyć granicę Gruzji z Rosją. Ws
 półprowadzącym mojego pokazu będzie Nika Gomiashvili – jeden z najba
 rdziej znanych gruzińskich przewodników wysokogórskich. Nika zdradzi Wa
 m czy można wciąż zachwycać się widokami ze szczytu Kazbeku jeśli by
 ło się tam już sto razy\, a także doradzi Wam co zrobić\, aby podczas
  wyprawy wysokogórskiej nie dostać choroby wysokościowej i poleci najle
 psze gruzińskie lekarstwo na tą dolegliwość. Ale opowiemy Wam dużo wi
 ęcej. Opowiemy Wam historie zabawne i również takie\, które nie pozwol
 ą Wam spokojnie spać w nocy. A wszystkie z Kazbekiem  i Elbrusem w tle o
 czywiście.\n\nEwa Stachura: \n\n"Z wykształcenia jestem prawnikiem i men
 adżerem. Będąc na życiowym zakręcie\, zdecydowałam się wyjechać w 
 podróż dookoła świata. Kiedy przyjechałam do Gruzji i spojrzałam na 
 Kazbek to poczułam to „coś”. Poczułam\, że znalazłam swoje miejsc
 e na świecie. Od razu wiedziała\, że to tutaj chcę mieć swój dom. Oc
 zywiście dom z widokiem na Kazbek. Wiedziałam\, że nic nie stanie mi na
  drodze\, żeby spełnić to pragnienie. Musiałam tylko przekonać do teg
 o pomysłu całą wioskę gruzińskich górali. Wszyscy mówili mi\, że s
 ię nie uda. Udało się! Aktualnie mieszkam i pracuje w Kazbegi – gruzi
 ńskiej wiosce położonej u stóp Kazbeku. Połączyłam pracę z pasją 
 i wraz z gruzińskimi przyjaciółmi otworzyłam pierwszą profesjonalną 
 agencję górską w Gruzji -MountainFreaks – Mountain Travel & Adventure
  Agency\, która specjalizuje się w wyprawach na Kazbek i Elbrus. Przez o
 statnie lata zorganizowałam na Kazbek i Elbrus ponad sto wypraw zakończo
 nych sukcesem\, a sama stanęłam do tej pory 14 razy na szczycie Kazbeku 
 i 5 razy naszczycie Elbrusa".\n\nZapraszamy !
ATTACH;FMTTYPE=image/jpeg:https://night4u.pl/wp-content/uploads/2018/12/67
 89_image_49204817_2135337319821832_325798571053940736_o.jpg
CATEGORIES:podkarpackie
LOCATION:Klub K15\, Krakowska 15\, Krosno\, 38-400\, Poland
GEO:49.697949;21.752425
X-APPLE-STRUCTURED-LOCATION;VALUE=URI;X-ADDRESS=Krakowska 15\, Krosno\, 38-
 400\, Poland;X-APPLE-RADIUS=100;X-TITLE=Klub K15:geo:49.697949,21.752425
END:VEVENT
BEGIN:VTIMEZONE
TZID:Europe/Warsaw
X-LIC-LOCATION:Europe/Warsaw
BEGIN:STANDARD
DTSTART:20181028T020000
TZOFFSETFROM:+0200
TZOFFSETTO:+0100
TZNAME:CET
END:STANDARD
END:VTIMEZONE
END:VCALENDAR