BEGIN:VCALENDAR
VERSION:2.0
PRODID:-//wp-events-plugin.com//7.2.3.1//EN
TZID:Europe/Warsaw
X-WR-TIMEZONE:Europe/Warsaw
BEGIN:VEVENT
UID:20005@night4u.pl
DTSTART;TZID=Europe/Warsaw:20190622T190000
DTEND;TZID=Europe/Warsaw:20190623T050000
DTSTAMP:20190621T201817Z
URL:https://night4u.pl/wydarzenia/kazda-wariatka-ma-we-wlosach-kwiatka/
SUMMARY:Każda wariatka ma we włosach kwiatka!
DESCRIPTION:Kochani! \n\nZapraszamy na wspólne świętowanie nadejścia la
 ta ? Z tej okazji przygotowaliśmy dla Was promocje: do godziny 22 drugieg
 o drinka ? z karty kupicie za połowę ceny\, a dla każdej osoby z wianki
 em na głowie szot do pierwszego zamówienia gratis ??? Ogródki otwieramy
  dla Was już w południe\, a od 20tej dj Urek zadba\, żeby na parkiecie 
 było gorrrrąco ?️! Zachęcamy do rezerwacji stolików poprzez wiadomo
 ść prywatną na naszym fanpage'u lub telefonicznie pod numerem 12 422 16
 67
ATTACH;FMTTYPE=image/jpeg:https://night4u.pl/wp-content/uploads/2019/06/48
 120_image_64756484_2778450845562513_1612136981238644736_n.jpg
CATEGORIES:małopolskie
LOCATION:Alternatywy\, Mały Rynek 4\, Kraków\, 31-041\, Poland
GEO:50.061235;19.940425
X-APPLE-STRUCTURED-LOCATION;VALUE=URI;X-ADDRESS=Mały Rynek 4\, Kraków\, 3
 1-041\, Poland;X-APPLE-RADIUS=100;X-TITLE=Alternatywy:geo:50.061235,19.940
 425
END:VEVENT
BEGIN:VTIMEZONE
TZID:Europe/Warsaw
X-LIC-LOCATION:Europe/Warsaw
BEGIN:DAYLIGHT
DTSTART:20190331T030000
TZOFFSETFROM:+0100
TZOFFSETTO:+0200
TZNAME:CEST
END:DAYLIGHT
END:VTIMEZONE
END:VCALENDAR