BEGIN:VCALENDAR
VERSION:2.0
PRODID:-//wp-events-plugin.com//7.2.3.1//EN
TZID:Europe/Warsaw
X-WR-TIMEZONE:Europe/Warsaw
BEGIN:VEVENT
UID:20344@night4u.pl
DTSTART;TZID=Europe/Warsaw:20190705T220000
DTEND;TZID=Europe/Warsaw:20190706T050000
DTSTAMP:20190628T224315Z
URL:https://night4u.pl/wydarzenia/keep-calm-its-friday-dj-em-05-07-2019/
SUMMARY:KEEP CALM! It's Friday! // DJ Em // 05.07.2019
DESCRIPTION:❗❗ Lista FB -25% na barze przez całą imprezę ❗❗\n(Of
 erta nie łączy się z innymi promocjami)\n⬇Dołącz do wydarzenia⬇\n
 \n\nNARESZCIE! PIĄTEK! ???\n\nKolejny tydzień pracy za nami\, zaczynamy 
 weekendową zabawę.\n\nCzy wyobrażacie sobie lepsze miejsce do jego rozp
 oczęcia niż piękne wnętrza klubu Choice? My też nie!\n\n\nStart: 22:0
 0\nWstęp: 21+ // 10 PLN / Lista FB: free\n\nRezerwacje:\nDominika: + 48 5
 05 725 060 / d.pisanko@choiceclub.pl\n\nKlub Choice zastrzega sobie prawo 
 do selekcji gości.
ATTACH;FMTTYPE=image/jpeg:https://night4u.pl/wp-content/uploads/2019/06/48
 851_image_65656962_1589562324510354_1994699326135205888_o.jpg
CATEGORIES:małopolskie
LOCATION:Choice Club\, Floriańska 15\, Kraków\, 31-019\, Poland
GEO:50.06271;19.93987
X-APPLE-STRUCTURED-LOCATION;VALUE=URI;X-ADDRESS=Floriańska 15\, Kraków\, 
 31-019\, Poland;X-APPLE-RADIUS=100;X-TITLE=Choice Club:geo:50.06271,19.939
 87
END:VEVENT
BEGIN:VTIMEZONE
TZID:Europe/Warsaw
X-LIC-LOCATION:Europe/Warsaw
BEGIN:DAYLIGHT
DTSTART:20190331T030000
TZOFFSETFROM:+0100
TZOFFSETTO:+0200
TZNAME:CEST
END:DAYLIGHT
END:VTIMEZONE
END:VCALENDAR