BEGIN:VCALENDAR
VERSION:2.0
PRODID:-//wp-events-plugin.com//7.2.3.1//EN
TZID:Europe/Warsaw
X-WR-TIMEZONE:Europe/Warsaw
BEGIN:VEVENT
UID:38623@night4u.pl
DTSTART;TZID=Europe/Warsaw:20191220T220000
DTEND;TZID=Europe/Warsaw:20191221T040000
DTSTAMP:20191220T053812Z
URL:https://night4u.pl/wydarzenia/keep-calm-its-xmas-dj-em-20-12-2019/
SUMMARY:Keep Calm It's Xmas // Dj eM // 20.12.2019
DESCRIPTION:Nie daj się ponieść świątecznemu szałowi i znajdź chwil
 ę wytchnienia w Choice Club &lt\;3\n\nDJ EM:\nLublinianin\, mieszkający 
 obecnie w Krakowie.\nAbsolwent Państwowej Szkoły Muzycznej im. Karola Li
 pińskiego w Lublinie.\nMiłośnik czarnych brzmień.\nW jego setach usły
 szeć można rnb\, hip hop\, twerk oraz szeroko pojęty mashup.\nSwoją kl
 ubową przygodę rozpoczął w 2009 roku w klubie Place - to tam stawiał 
 pierwsze kroki w miksowaniu muzyki\, jak i teledysków na żywo.\nRok 2010
  przyniósł mu stałą współpracę z lubelską Czekoladą\, gdzie już 
 rok później w okresie letnim współtworzył projekt Summer Spot.\nSwoim
 i setami rozgrzewał parkiety niemal wszystkich uznanych klubów w Lublini
 e oraz Krakowie.\nKilkukrotny gość warszawskiego The Nine\, którego klu
 bowiczom ze Stolicy przedstawiać nie trzeba.\n\nStart: 22:00\nWstęp: 18+
  // 10 PLN / Lista FB: free\n\nRezerwacje: \nDominika: + 48 505 725 060 / 
 d.pisanko@choiceclub.pl \n\nKlub Choice zastrzega sobie prawo do selekcji 
 Gości.
ATTACH;FMTTYPE=image/jpeg:https://night4u.pl/wp-content/uploads/2019/12/11
 0510_image_77343525_1742993839167201_8527158306324611072_o.jpg
CATEGORIES:małopolskie
LOCATION:Choice Club\, Floriańska 15\, Kraków\, 31-019\, Poland
GEO:50.06271;19.93987
X-APPLE-STRUCTURED-LOCATION;VALUE=URI;X-ADDRESS=Floriańska 15\, Kraków\, 
 31-019\, Poland;X-APPLE-RADIUS=100;X-TITLE=Choice Club:geo:50.06271,19.939
 87
END:VEVENT
BEGIN:VTIMEZONE
TZID:Europe/Warsaw
X-LIC-LOCATION:Europe/Warsaw
BEGIN:STANDARD
DTSTART:20191027T020000
TZOFFSETFROM:+0200
TZOFFSETTO:+0100
TZNAME:CET
END:STANDARD
END:VTIMEZONE
END:VCALENDAR