BEGIN:VCALENDAR
VERSION:2.0
PRODID:-//wp-events-plugin.com//7.2.3.1//EN
TZID:Europe/Warsaw
X-WR-TIMEZONE:Europe/Warsaw
BEGIN:VEVENT
UID:5973@night4u.pl
DTSTART;TZID=Europe/Warsaw:20190302T213000
DTEND;TZID=Europe/Warsaw:20190303T060000
DTSTAMP:20190206T194307Z
URL:https://night4u.pl/wydarzenia/keep-it-slav-w-ofdream-paris/
SUMMARY:Keep it Slav w/ Øfdream (Paris)
DESCRIPTION:KEEP IT SLAV to styl życia\, w którym piękne kobiety z chust
 ami na głowach i panowie w trzech paskach zawsze odnajdą siebie. Wolisz 
 ruskie pierogi niż burgery? Wódę niż kolorowe drinki? Jesteś prawdziw
 ym gopnikiem? Zapraszamy!\n\nPo raz pierwszy w Polsce zagra ØFDREAM\, pro
 ducent z Francji i członek kolektywu Wavemob. Jest jednym z pionierów co
 raz popularniejszego gatunku wave\, a jego styl muzyczny cechuje się niep
 owtarzalnym klimatem i unikalnym brzmieniem. Najpopularniejsze utwory Øfd
 ream’a to m.in.: Fifth Gate oraz First Woe\, którymi zyskał ogromną p
 opularność. Do tej pory miał okazję występować na jednej scenie z ta
 kimi artystami jak Lorn czy Vitalic\, a w zeszłym roku zagrał swój pier
 wszy set w USA. \n\n/// /// /// /// /// /// /// /// /// /// /// /// /// //
 / /// /// /// /// /// /// /// /// ///\n\nzagrają:\nØfdream (wavemob/ Par
 yż)\nenjoii (Liquid Ritual)\nMajki (Up To Date Festival)\nRafall (Supraś
 l)\n\n\n\n/// /// /// /// /// /// /// /// /// /// /// /// /// /// /// /// 
 /// /// /// /// /// /// ///\n\nGRAMY: wave\, witch-house\, trap\, ruskie t
 echno\, hardbass\, gabber\n\nwjazd: 15 PLN / trzy oryginalne paski na rami
 onach lub nogawkach przyzwalają na to\, by z godnością i podniesioną g
 łową do klubu w ten wieczór wejść ze zniżką - 10 PLN\n\n/// /// ///
  /// /// /// /// /// /// /// /// /// /// /// /// /// /// /// /// /// /// /
 // ///
ATTACH;FMTTYPE=image/jpeg:https://night4u.pl/wp-content/uploads/2019/01/17
 963_image_50868951_10156142997376985_5827894110953930752_o.jpg
CATEGORIES:podlaskie
LOCATION:KLUB METRO\, Białówny 9/1\, Białystok\, 15-437\, Poland
GEO:53.13331;23.156827
X-APPLE-STRUCTURED-LOCATION;VALUE=URI;X-ADDRESS=Białówny 9/1\, Białystok
 \, 15-437\, Poland;X-APPLE-RADIUS=100;X-TITLE=KLUB METRO:geo:53.13331,23.1
 56827
END:VEVENT
BEGIN:VTIMEZONE
TZID:Europe/Warsaw
X-LIC-LOCATION:Europe/Warsaw
BEGIN:STANDARD
DTSTART:20181028T020000
TZOFFSETFROM:+0200
TZOFFSETTO:+0100
TZNAME:CET
END:STANDARD
END:VTIMEZONE
END:VCALENDAR