BEGIN:VCALENDAR
VERSION:2.0
PRODID:-//wp-events-plugin.com//7.2.3.1//EN
TZID:Europe/Warsaw
X-WR-TIMEZONE:Europe/Warsaw
BEGIN:VEVENT
UID:2578@night4u.pl
DTSTART;TZID=Europe/Warsaw:20190131T220000
DTEND;TZID=Europe/Warsaw:20190201T050000
DTSTAMP:20190105T144310Z
URL:https://night4u.pl/wydarzenia/keep-your-resolutions-lokal-x-where2b-3/
SUMMARY:Keep Your Resolutions | LOKAL x where2B
DESCRIPTION:--ENGLISH VERSION BELOW--\n\nTrzymaj się swoich postanowień n
 oworocznych i w 2019 imprezuj... jeszcze bardziej. Wypij morze alkoholu\, 
 ćwicz na parkiecie do białego rana\, ucz się pilnie klubowych podrywów
  oraz oszczędzaj masę kasy dopisując się do listy gości where2B.org.\
 n\nLISTA FB: Wejście Free do 23:59\nLISTA WHERE2B: Wejście free całą n
 oc + promocje na barze: Żywiec 8 zł\, Wyborowa + soft 10 zł\, Zestaw 6 
 szotów 15 zł ——> https://www.where2b.org/event/76673\n\nPokaż piecz
 ątkę / opaskę w barze przed złożeniem zamówienia. \n\n--ENGLISH VERS
 ION--\n\nKeep your New Year's Resolutions and party even harder than in 20
 18. Study nightlife in Krakow\, get fit on the floor and save a lot of mon
 ey by getting on the where2B list (https://www.where2b.org/event/76673) to
  score free entrance and bar discounts:\nŻywiec 8 PLN\nWyborowa + soft 10
  PLN\nMix 6 shots 15 PLN\n\nReserve a table for free before 11:30 pm. Cont
 act: krakow@where2B.org\, +48 536 90 75 80. FB: where2B Kraków\n\nView th
 e event gallery when the organizer ads images/Zobacz galerię kiedy organi
 zator doda zdjęcia: www.where2b.org/album/850557
ATTACH;FMTTYPE=image/jpeg:https://night4u.pl/wp-content/uploads/2019/01/92
 66_image_49286291_1275863699247332_2453990291112198144_o.jpg
CATEGORIES:małopolskie
LOCATION:LOKAL Krakow\, Rynek Główny 6\, Kraków\, 31-042\, Poland
GEO:50.06105;19.93836
X-APPLE-STRUCTURED-LOCATION;VALUE=URI;X-ADDRESS=Rynek Główny 6\, Kraków\
 , 31-042\, Poland;X-APPLE-RADIUS=100;X-TITLE=LOKAL Krakow:geo:50.06105,19.
 93836
END:VEVENT
BEGIN:VTIMEZONE
TZID:Europe/Warsaw
X-LIC-LOCATION:Europe/Warsaw
BEGIN:STANDARD
DTSTART:20181028T020000
TZOFFSETFROM:+0200
TZOFFSETTO:+0100
TZNAME:CET
END:STANDARD
END:VTIMEZONE
END:VCALENDAR