BEGIN:VCALENDAR
VERSION:2.0
PRODID:-//wp-events-plugin.com//7.2.3.1//EN
TZID:Europe/Warsaw
X-WR-TIMEZONE:Europe/Warsaw
BEGIN:VEVENT
UID:32858@night4u.pl
DTSTART;TZID=Europe/Warsaw:20191108T200000
DTEND;TZID=Europe/Warsaw:20191108T235900
DTSTAMP:20191108T004146Z
URL:https://night4u.pl/wydarzenia/keke-%e2%80%a2-mr-keke-%e2%80%a2-poznan-
 08-11-2019-sold-out/
SUMMARY:KęKę • Mr KęKę • Poznań 08/11/2019 SOLD OUT
DESCRIPTION:Wszystkie bilety na ten koncert zostały wyprzedane.\nZapraszam
 y na koncerty we Wrześni oraz  w Ostrowie Wielkopolskim. \nSzczegóły w 
 zakładce wydarzenia na Bashesh\n\n\n........\nAgencja Muzyczno-Eventowa B
 ashesh oraz Klub Muzyczny B17 z ogromną przyjemnością zapraszają na ko
 ncert Mr. KęKę\, promujący album "Mr KęKę"\, który odbędzie się 08
 .11.2019. w Poznaniu.\n\nStart: 20:00\nMiejsce: Klub B17\, Bułgarska 17\,
  Poznań\n\nBilety wyprzedane.\n\nSupport:\nWarmUp dj WJS\nHuku\nCzaku\n\n
 Wydarzenie na FB: https://www.facebook.com/events/415654132615427/\n\nOsob
 y niepełnoletnie\, które nie ukończyły 18 lat powinny mieć ze sobą p
 isemną zgodę opiekunów prawnych. Osoby\, które nie ukończyły 16 lat 
 mogę wejść tylko z opiekunem prawnym lub osobą pisemnie upoważnioną.
  Opiekun również musi posiadać bilet. \nWzór zgody: https://bashesh.co
 m/uploads/zgoda.png\n\nBilet upoważnia do jednorazowego wstępu na teren 
 imprezy.\nBilety należy kupować tylko w autoryzowanych punktach sprzeda
 ży.\nGodziny podane na bilecie i plakacie mogą ulec zmianie.\nStart impr
 ezy oznacza godzinę o której rozpoczynamy wpuszczanie ludzi do klubu\, n
 ie jest on tożsamy ze startem koncertu głównego wykonawcy.\n\nPo ogromn
 ym sukcesie „To Tu” (podwójna platyna\, ponad 120 koncertów w kraju 
 i na świecie\, ponad 130 milionów odtworzeń w serwisie YT)  KęKę powr
 aca by po raz kolejny Was zaskoczyć.\n\n„Mr KęKę” to najbardziej zr
 óżnicowany z dotychczasowych albumów rapera. Lekkie\, czasem prześmiew
 cze numery przeplatają się z poważnymi\, refleksyjnymi i nierzadko gorz
 kimi utworami. Za warstwę muzyczną odpowiada czołówka polskich produce
 ntów. Jest nowocześnie ale też melodyjnie\,  czyli sprawdzona mieszanka
  do jakiej przyzwyczaił nas raper. Całości dopełniają starannie dobra
 ni goście. Każdy z nich należy do czołówki polskiej muzyki w swoim ga
 tunku. \n\nZapraszamy Was na muzyczną podróż\, przez śmiech\, gniew\, 
 beztroskę i łzy.\n\nWersja deluxe albumu dostępna tylko w preorderze na
  www.takierzeczy.com -ilość ograniczona.\n\nChcesz być z nami w kontakc
 ie zapraszamy do naszej grupy:\nGrupa Bashesh - backstage koncertowy\n\nWi
 dzimy się na miejscu!\n\nWięcej informacji: \n\nhttps://www.facebook.com
 /bashesh\n\nwww.bashesh.com
ATTACH;FMTTYPE=image/jpeg:https://night4u.pl/wp-content/uploads/2019/10/80
 319_image_66206144_2420728024657876_1416805742677065728_o.jpg
CATEGORIES:wielkopolskie
LOCATION:Klub Muzyczny B17\, Bułgarska 17\, Poznan\, 60-320\, Poland
GEO:52.397137;16.859419
X-APPLE-STRUCTURED-LOCATION;VALUE=URI;X-ADDRESS=Bułgarska 17\, Poznan\, 60
 -320\, Poland;X-APPLE-RADIUS=100;X-TITLE=Klub Muzyczny B17:geo:52.397137,1
 6.859419
END:VEVENT
BEGIN:VTIMEZONE
TZID:Europe/Warsaw
X-LIC-LOCATION:Europe/Warsaw
BEGIN:STANDARD
DTSTART:20191027T020000
TZOFFSETFROM:+0200
TZOFFSETTO:+0100
TZNAME:CET
END:STANDARD
END:VTIMEZONE
END:VCALENDAR