BEGIN:VCALENDAR
VERSION:2.0
PRODID:-//wp-events-plugin.com//7.2.3.1//EN
TZID:Europe/Warsaw
X-WR-TIMEZONE:Europe/Warsaw
BEGIN:VEVENT
UID:43770@night4u.pl
DTSTART;TZID=Europe/Warsaw:20200610T200000
DTEND;TZID=Europe/Warsaw:20200610T235900
DTSTAMP:20200424T190057Z
URL:https://night4u.pl/wydarzenia/keke-%e2%80%a2-mr-keke-%e2%80%a2-radom-2
 7-03-2020/
SUMMARY:KęKę • Mr KęKę • Radom 10/06/2020
DESCRIPTION:W związku z obecną sytuacją koncert zostaje przeniesiony na 
 10.06.2020. Bilety zachowują ważność. Wszelkie informacje na temat zwr
 otu biletów zostaną przekazane drogą mailową przez biletomat.pl\n\nAge
 ncja Muzyczno-Eventowa Bashesh oraz Klub Strefa G2 z ogromną przyjemnośc
 ią zapraszają na koncert Mr. KęKę\, promujący album "Mr KęKę"\, kt
 óry odbędzie się 10.06.2020. w Radomiu\n\nStart: 20:00\nMiejsce: Klub S
 trefa G2\, ul. Przemysłowa 20\, Radom\n\nBilety: od 40 PLN\nPrzedsprzeda
 ż:\n•	Biletomat.pl - bilety online – https://www.biletomat.pl/hip-hop
 -reggae/keke-mr-keke-radom-9025/\n\nSupport:\nAzus\nKVBX\n\nWydarzenie na 
 FB:  https://www.facebook.com/events/956983844695717/\n\nOsoby niepełnole
 tnie\, które nie ukończyły 18 lat powinny mieć ze sobą pisemną zgod
 ę opiekunów prawnych. Osoby\, które nie ukończyły 16 lat mogę wejś
 ć tylko z opiekunem prawnym lub osobą pisemnie upoważnioną. Opiekun r
 ównież musi posiadać bilet. \nWzór zgody: https://bashesh.com/uploads/
 zgoda.png\n\nBilet upoważnia do jednorazowego wstępu na teren imprezy.\n
 Bilety należy kupować tylko w autoryzowanych punktach sprzedaży.\nGodzi
 ny podane na bilecie i plakacie mogą ulec zmianie.\nStart imprezy oznacza
  godzinę o której rozpoczynamy wpuszczanie ludzi do klubu\, nie jest on 
 tożsamy ze startem koncertu głównego wykonawcy.\n\n\nPo ogromnym sukces
 ie „To Tu” (podwójna platyna\, ponad 120 koncertów w kraju i na świ
 ecie\, ponad 130 milionów odtworzeń w serwisie YT)  KęKę powraca by po
  raz kolejny Was zaskoczyć.\n\n„Mr KęKę” to najbardziej zróżnicow
 any z dotychczasowych albumów rapera. Lekkie\, czasem prześmiewcze numer
 y przeplatają się z poważnymi\, refleksyjnymi i nierzadko gorzkimi utwo
 rami. Za warstwę muzyczną odpowiada czołówka polskich producentów. Je
 st nowocześnie ale też melodyjnie\,  czyli sprawdzona mieszanka do jakie
 j przyzwyczaił nas raper. Całości dopełniają starannie dobrani gości
 e. Każdy z nich należy do czołówki polskiej muzyki w swoim gatunku. \n
 \nZapraszamy Was na muzyczną podróż\, przez śmiech\, gniew\, beztrosk
 ę i łzy.\n\n\nChcesz być z nami w kontakcie zapraszamy do naszej grupy:
 \nGrupa Bashesh - backstage koncertowy\n\nWidzimy się na miejscu!\n\n\nWi
 ęcej informacji: \n\nhttps://www.facebook.com/bashesh\nhttps://www.facebo
 ok.com/RadomKeKe\nwww.bashesh.com
ATTACH;FMTTYPE=image/jpeg:https://night4u.pl/wp-content/uploads/2020/03/14
 0477_image_89351241_2929417243788949_6201183157601959936_o.jpg
CATEGORIES:mazowieckie
LOCATION:Sala Koncertowa W Um Radom\, Ul Żeromskiego 53\, Radom\, 26-602\,
  Poland
GEO:51.401524;21.158288
X-APPLE-STRUCTURED-LOCATION;VALUE=URI;X-ADDRESS=Ul Żeromskiego 53\, Radom\
 , 26-602\, Poland;X-APPLE-RADIUS=100;X-TITLE=Sala Koncertowa W Um Radom:ge
 o:51.401524,21.158288
END:VEVENT
BEGIN:VTIMEZONE
TZID:Europe/Warsaw
X-LIC-LOCATION:Europe/Warsaw
BEGIN:DAYLIGHT
DTSTART:20200329T030000
TZOFFSETFROM:+0100
TZOFFSETTO:+0200
TZNAME:CEST
END:DAYLIGHT
END:VTIMEZONE
END:VCALENDAR