BEGIN:VCALENDAR
VERSION:2.0
PRODID:-//wp-events-plugin.com//7.2.3.1//EN
TZID:Europe/Warsaw
X-WR-TIMEZONE:Europe/Warsaw
BEGIN:VEVENT
UID:51035@night4u.pl
DTSTART;TZID=Europe/Warsaw:20211019T200000
DTEND;TZID=Europe/Warsaw:20211019T200000
DTSTAMP:20210908T144712Z
URL:https://night4u.pl/wydarzenia/kielce-grzegorz-dolniak-sztuka-relaksu/
SUMMARY:Kielce! Grzegorz Dolniak - Sztuka relaksu
DESCRIPTION:Najnowszy program Grzegorza Dolniaka\, w którym sprawdzicie ja
 k żyć spokojnie i być wypoczętym człowiekiem. Grzegorz akurat nie ma 
 pojęcia jak to zrobić\, dlatego właśnie się wypowie. Z charakterystyc
 zną sceniczną ekspresją i obserwacjami punktującymi absurdy dnia codzi
 ennego zdemaskuje przeszkody stojące na drodze do prawdziwego spokoju duc
 ha. Zabierze Was w podróż po meandrach niełatwej sztuki relaksu\, w kt
 órej jak zawsze zobaczycie swoje odbicie.\n+ support\n\n- W czasie wydarz
 enia uczestnicy zobowiązani są do zakrywania ust\, nosa oraz do zachowan
 ia dystansu społecznego\, a przed wejściem na teren wydarzenia do dezynf
 ekcji rąk.\n- Uczestnik ma obowiązek samodzielnego wyposażenia się w m
 ateriały ochrony osobistej służące do zakrywania ust i nosa.\n- Kupuj
 ąc bilet uczestnik akceptuje klauzule dot. ochrony danych osobowych\, umo
 żliwiające Organizatorowi udostępnienie Głównemu Inspektoratowi Sanit
 arnemu i służbom porządkowym danych osobowych podanych przy zakupie bil
 etów.
ATTACH;FMTTYPE=image/jpeg:https://night4u.pl/wp-content/uploads/2021/08/18
 6270_image_230074415_379150506913436_2379829217069781313_n.jpg
CATEGORIES:świętokrzyskie
LOCATION:MASKA Incognito Club\, Rynek 5\, Kielce\, 25-303\, Poland
GEO:50.871945;20.632092
X-APPLE-STRUCTURED-LOCATION;VALUE=URI;X-ADDRESS=Rynek 5\, Kielce\, 25-303\,
  Poland;X-APPLE-RADIUS=100;X-TITLE=MASKA Incognito Club:geo:50.871945,20.6
 32092
END:VEVENT
BEGIN:VTIMEZONE
TZID:Europe/Warsaw
X-LIC-LOCATION:Europe/Warsaw
BEGIN:DAYLIGHT
DTSTART:20210328T030000
TZOFFSETFROM:+0100
TZOFFSETTO:+0200
TZNAME:CEST
END:DAYLIGHT
END:VTIMEZONE
END:VCALENDAR