BEGIN:VCALENDAR
VERSION:2.0
PRODID:-//wp-events-plugin.com//7.2.3.1//EN
TZID:Europe/Warsaw
X-WR-TIMEZONE:Europe/Warsaw
BEGIN:VEVENT
UID:42474@night4u.pl
DTSTART;TZID=Europe/Warsaw:20200116T200000
DTEND;TZID=Europe/Warsaw:20200116T235900
DTSTAMP:20200331T192642Z
URL:https://night4u.pl/wydarzenia/kiev-office-i-golebie-w-amore-del-tropic
 o-nordowi-mol-tour/
SUMMARY:Kiev Office i Gołębie w Amore Del Tropico! Nordowi Môl Tour
DESCRIPTION:Koncert Kiev Office oraz Gołębie na trasie Nordowi Tour\, pro
 mującej siódmy studyjny album Kiev Office pt. Nordowi Môl.\n\nBilety: 2
 0 pln\n\nSolidna dawka psychodelicznego brzmienia Trójmiasta\, noise'u\, 
 transu oraz dzikiej\, pierwotnej energii.\n\nKiev Office to gdyńska forma
 cja wykonująca mariaż post-punku\, psychodelii i indie folku\, nawiązuj
 ący do tradycji Trójmiejskiej Sceny Alternatywnej.\n\nGrupa\, muzycznie 
 i tekstowo\, eksploruje różne mitologie regionów Polski\; na styku wsp
 ółczesności\, przyszłości oraz tego\, co stanowi o ich korzeniach. Ma
  za sobą ponad 200 koncertów w kraju i zagranicą – między innymi: Op
 en’er\, Jarocin Festival\, występy na trasach z Nomeansno\, Schizmą\, 
 liczne koncerty zagraniczne. \n\nSiódmy album tria pt. „Nordowi Môl”
 \, poświęcony jest opowieściom związanymi z rybackimi tradycjami Pomor
 za. Opowieści o zatopionych miastach\, trudzie życia w zapomnianych regi
 onach północnej Polski łączą się tu z aktualną wizją różnych rod
 zajów indoktrynacji i wątpliwości związanych z wyborami życiowymi. Ha
 sło ‘obyś żył w ciekawych czasach’\, przewijające się przez melo
 dyjne\, hałaśliwe utwory\, skłania do niepokoju\, refleksji i zatraceni
 a się w nieokiełznanym tańcu. \n\nPosłuchaj singla tu: https://www.you
 tube.com/watch?v=cp1GXMJYBF8\n\nhttps://open.spotify.com/album/1RqaK9YnLAJ
 Pu67pdgOCQm?si=SIDvEsYhRiiv-q2LfBZZWw\n\nMichał Miegoń - Wokal\, Gitara\
 , Bass\nMarcin Lewandowski - Wokal\, Gitara\, Bass\nKrzysztof Wroński - P
 erkusja \nDyskografia Kiev Office:\n2009 – „Jest Taka Opcja”\n2011 
 – „Anton Globba”\n2013 – „Zamenhofa” \n2014 – „Statek Matk
 a” \n2017 – „Modernistyczny Horror”                               
                                                                           
                                                                           
                                                                           
                                                                           
                             \n2018 – „Alarm Dla Gdyni. X Lat”\n2020 
 - "Nordowi Mól"\nfacebook.com/kievoffice \nKontakt: kievofficeband@yahoo.
 com\n---------------------------\nGołębie:\n\n– Świat mknie\, powstaj
 ą coraz to nowsze gatunki muzyczne\, jednak dla poznańskiego trio ważni
 ejsze niż podążanie za modami jest co innego – granie prosto z trzewi
 . Stąd Gołębie można by sklasyfikować jako „niezależne gitarki”\
 , ale z dość znaczącym noise rockowym sznytem. Ich utwory wynikają nie
  z kalkulacji\, ale z autentycznego przejęcia się tym\, co wokół nich 
 się dzieje. To nie jest ich pierwszy występ w Poznaniu. \n▶ www.golebi
 e.bandcamp.com
ATTACH;FMTTYPE=image/jpeg:https://night4u.pl/wp-content/uploads/2020/01/13
 4049_image_78719123_2527336203988043_6814826485463908352_o.jpg
CATEGORIES:wielkopolskie
END:VEVENT
BEGIN:VTIMEZONE
TZID:Europe/Warsaw
X-LIC-LOCATION:Europe/Warsaw
BEGIN:STANDARD
DTSTART:20191027T020000
TZOFFSETFROM:+0200
TZOFFSETTO:+0100
TZNAME:CET
END:STANDARD
END:VTIMEZONE
END:VCALENDAR