BEGIN:VCALENDAR
VERSION:2.0
PRODID:-//wp-events-plugin.com//7.2.3.1//EN
TZID:Europe/Warsaw
X-WR-TIMEZONE:Europe/Warsaw
BEGIN:VEVENT
UID:49666@night4u.pl
DTSTART;TZID=Europe/Warsaw:20200311T220000
DTEND;TZID=Europe/Warsaw:20200312T060000
DTSTAMP:20200309T055849Z
URL:https://night4u.pl/wydarzenia/kinect-adventures-xdemon-zielona-gora/
SUMMARY:Kinect Adventures! // Xdemon Zielona Góra
DESCRIPTION:Najlepsze studencka impreza w mieście❗😃🔥🔥🔥\n🍸
 \n✖️Studenci za bilety nie płacą✌🏻\n✖️na barach promocja 3x
 5\n✖️Panie do 24:00 piją za free!\n\nNie możesz tego przegapić ! Do
 łącz do wydarzenia już dziś!\n\n☎ Rezerwacje ONLINEhttp://bit.ly/1Rt
 F806\n INFO: 797 407 885 ☎\n\nNie zapomnij o kuszących promocjach w klu
 bie X-DEMON:\n\nPROMOCJA URODZINOWA\nPROMOCJA NA WIECZÓR PANIEŃSKI \n\nO
 BSERWUJ NAS:\nwww.xdemon.pl\nwww.facebook.com/XDemon\nwww.instagram.com/xd
 emonzielonagora\nsnapchat: xdemonzg
ATTACH;FMTTYPE=image/jpeg:https://night4u.pl/wp-content/uploads/2020/03/17
 3337_image_87453451_4036881766325577_7322654536550580224_o.jpg
CATEGORIES:lubuskie
LOCATION:X-Demon - Zielona Góra\, \, 
X-APPLE-STRUCTURED-LOCATION;VALUE=URI;X-ADDRESS=\, ;X-APPLE-RADIUS=100;X-TI
 TLE=X-Demon - Zielona Góra:geo:0,0
END:VEVENT
BEGIN:VTIMEZONE
TZID:Europe/Warsaw
X-LIC-LOCATION:Europe/Warsaw
BEGIN:STANDARD
DTSTART:20191027T020000
TZOFFSETFROM:+0200
TZOFFSETTO:+0100
TZNAME:CET
END:STANDARD
END:VTIMEZONE
END:VCALENDAR