BEGIN:VCALENDAR
VERSION:2.0
PRODID:-//wp-events-plugin.com//7.2.3.1//EN
TZID:Europe/Warsaw
X-WR-TIMEZONE:Europe/Warsaw
BEGIN:VEVENT
UID:1454@night4u.pl
DTSTART;TZID=Europe/Warsaw:20190110T200000
DTEND;TZID=Europe/Warsaw:20190110T230000
DTSTAMP:20181228T233329Z
URL:https://night4u.pl/wydarzenia/king-zebra-i-watch-the-fire-w-k60-opole-
 10-01-2019/
SUMMARY:King Zebra i Watch The Fire w K60 - Opole - 10.01.2019
DESCRIPTION:ZAPRASZAMY NA CZYSTY OGIEŃ ZRODZONY Z ROCK'N'ROLL i GLAM METAL
 U!\nPełen energii i hałasu wieczór na którym zagoszczą niesamowici Ki
 ng Zebra na swojej trasie koncertowej w Klubie K60 pod kominem\, oraz mło
 dzi i energiczni Watch The Fire\, którzy rozniecą dla gości ogień!\n- 
 Wjazd: 10zł \n- Start: 20:00\n\n- - - - - - - - - - - - - - - - - - - - -
  - - - - - - - - - - - - -  - - - - - - - - - - - - -\nKing Zebra - Zurich
  (CH) - Glam/Sleaze Rock\, Hair Mmetal\, Kickass R'n'R- It was 2012 that f
 our longhaired lads from Zürich started a band that completely dedicated 
 itself to the sound of 80’s Rock. More than 80 shows later they are more
  determined than ever to reach out to both old and new fans with their ori
 ginal high-powered Music!\nhttps://www.kingzebra.ch/?fbclid=IwAR3RjBy4qpeU
 Fc6W7iBMGjTegq5IQMmxYtKG7_USaIA49DmsAX5WLkXVOD0\n\nWatch The Fire - Opole 
 (PL) - Rock'n'Roll - Młoda grupa założona w lutym 2018r. Energiczna\, p
 ełna wigoru i energii pędząca do przodu niczym pociąg. Uderzająca jak
  piorun! Jesteśmy zespołem Rock & Roll\, który lubi oldschooolowy styl\
 , więc bądź gotowy na dobry występ!
ATTACH;FMTTYPE=image/jpeg:https://night4u.pl/wp-content/uploads/2018/12/67
 96_image_48397279_317940952388592_7065253225196158976_o.jpg
CATEGORIES:opolskie
LOCATION:K60 Party Club\, Armii Krajowej 42\, Opole\, 45-071\, Poland
GEO:50.658943;17.945609
X-APPLE-STRUCTURED-LOCATION;VALUE=URI;X-ADDRESS=Armii Krajowej 42\, Opole\,
  45-071\, Poland;X-APPLE-RADIUS=100;X-TITLE=K60 Party Club:geo:50.658943,1
 7.945609
END:VEVENT
BEGIN:VTIMEZONE
TZID:Europe/Warsaw
X-LIC-LOCATION:Europe/Warsaw
BEGIN:STANDARD
DTSTART:20181028T020000
TZOFFSETFROM:+0200
TZOFFSETTO:+0100
TZNAME:CET
END:STANDARD
END:VTIMEZONE
END:VCALENDAR