BEGIN:VCALENDAR
VERSION:2.0
PRODID:-//wp-events-plugin.com//7.2.3.1//EN
TZID:Europe/Warsaw
X-WR-TIMEZONE:Europe/Warsaw
BEGIN:VEVENT
UID:51823@night4u.pl
DTSTART;TZID=Europe/Warsaw:20250103T220000
DTEND;TZID=Europe/Warsaw:20250105T050000
DTSTAMP:20250103T205021Z
URL:https://night4u.pl/wydarzenia/kings-night-x-bajka-lodz-3-4-01/
SUMMARY:King's Night x Bajka Łódź // 3-4.01
DESCRIPTION:3.01 PIĄTEK &amp\; 4.01 SOBOTA\n\n🔝🔝🔝🔝🔝\n\nKing
 ’s Night – Królewska noc zabawy! 👑✨\n\nW ten piątek i sobotę z
 apraszamy na jedyne w swoim rodzaju wydarzenie inspirowane Świętem Trzec
 h Króli! 🎶 To idealny moment\, by rozpocząć nowy rok z rozmachem\, t
 ańcem i świetną muzyką.\n\nCzego możecie się spodziewać?\n👑 Muzy
 ka na najwyższym poziomie – nasi DJ-e zadbają o niepowtarzalny klimat\
 , serwując najlepsze hity\, które porwą Was do tańca.\n🎶 Energia i 
 rytm – parkiet wypełni się pozytywną energią\, która rozgrzeje Was 
 do samego rana.\n✨ Wyjątkowa atmosfera – połączenie dobrej muzyki\,
  świetnego towarzystwa i nastrojowego oświetlenia sprawi\, że ta noc na
  długo zostanie w Waszej pamięci.\n\nPrzyjdź\, zatańcz i ciesz się ka
 żdą chwilą podczas King’s Night! 💃🕺 To będzie wieczór\, któr
 y sprawi\, że poczujecie się naprawdę wyjątkowo. Nie przegap tej okazj
 i – bawimy się do białego rana! 🌟\n\n⚡⚡⚡⚡⚡\n\n🔊 POZIOM
  0: POLSKIE PRZEBOJE &amp\; KLUBOWE HITY – DJ ROKETS\n\n🔴 Bilety 20/2
 5 PLN\n🔴 Wstęp 18+\n🔴 Start 22:00\n🔴 IG: bajka_lodz\n\n➡️ NO
 WY ADRES: MONIUSZKI 1 ⬅️
ATTACH;FMTTYPE=image/jpeg:https://night4u.pl/wp-content/uploads/2025/01/Ki
 ngs-Night-x-Bajka-Lodz-3-4.01.jpg
CATEGORIES:łódzkie
LOCATION:Moniuszki 1\, 90-101 Łódź\, Poland\, Moniuszki 1\, 90-101 Łód
 ź\, Poland\, 
X-APPLE-STRUCTURED-LOCATION;VALUE=URI;X-ADDRESS=Moniuszki 1\, 90-101 Łód
 ź\, Poland\, ;X-APPLE-RADIUS=100;X-TITLE=Moniuszki 1\, 90-101 Łódź\, P
 oland:geo:0,0
END:VEVENT
BEGIN:VTIMEZONE
TZID:Europe/Warsaw
X-LIC-LOCATION:Europe/Warsaw
BEGIN:STANDARD
DTSTART:20241027T020000
TZOFFSETFROM:+0200
TZOFFSETTO:+0100
TZNAME:CET
END:STANDARD
END:VTIMEZONE
END:VCALENDAR