BEGIN:VCALENDAR
VERSION:2.0
PRODID:-//wp-events-plugin.com//7.2.3.1//EN
TZID:Europe/Warsaw
X-WR-TIMEZONE:Europe/Warsaw
BEGIN:VEVENT
UID:47282@night4u.pl
DTSTART;TZID=Europe/Warsaw:20200226T200000
DTEND;TZID=Europe/Warsaw:20200226T220000
DTSTAMP:20200226T182611Z
URL:https://night4u.pl/wydarzenia/kinior-live-act-flapart-maja-wojtaszek-p
 laying-for-change/
SUMMARY:Kinior| Live act Flapart - Maja Wojtaszek -Playing for Change
DESCRIPTION:Co to jest Flap? \n"Ponieważ trudno jest mi się wmiksować na
  jakąkolwiek półkę\, postanowiłem tę półkę wymyślić." - Kinior\
 n\nW samochodzie\, jadąc kiedyś na koncert z Dawidem Milsem (raper z Bro
 oklynu)\, wymyśliłem termin Flap. Miało to być skojarzenie onomatopeic
 zne\, coś między Trip hopem a junglem. Miles to od razu podchwycił mów
 iąc\, że „flap” znaczy „trzepotać”. Spodobało mi się\, bo jes
 t to bliskie mojej naturze: trzepotać\, wibrować. \n\nPo pewnym czasie s
 twierdziłem\, że nie ma sensu ograniczać tego terminu do muzyki. Postan
 owiłem stworzyć z tego uniwersum: Flap Style to znaczy Obecność. Idąc
  za ciosem Flap People to Ludzie Obecni. Obecność nosi w sobie oczywiśc
 ie znamiona samopoznania. \nPonieważ trudno określić\, co to jest flap 
 music w gatunkach kulturowo tak skrajnych\, postanowiłem zawęzić termin
 ologie w muzyce: muzyka flap jest to muzyka łącząca barwy naturalne i w
 irtualne. Natomiast cały nurt kulturowy Flap dotyczy transformacji sztuki
  i jej ciągłych zmian.\n\nBilety: 20 przedsprzedaż / 30 w dniu koncertu
ATTACH;FMTTYPE=image/jpeg:https://night4u.pl/wp-content/uploads/2020/02/15
 7669_image_84923935_1246350505754306_4424969663922831360_o.jpg
CATEGORIES:mazowieckie
LOCATION:BARdzo bardzo\, ul. Nowogrodzka 11\, Warsaw\, 00-513\, Poland
GEO:52.229429;21.017876
X-APPLE-STRUCTURED-LOCATION;VALUE=URI;X-ADDRESS=ul. Nowogrodzka 11\, Warsaw
 \, 00-513\, Poland;X-APPLE-RADIUS=100;X-TITLE=BARdzo bardzo:geo:52.229429,
 21.017876
END:VEVENT
BEGIN:VTIMEZONE
TZID:Europe/Warsaw
X-LIC-LOCATION:Europe/Warsaw
BEGIN:STANDARD
DTSTART:20191027T020000
TZOFFSETFROM:+0200
TZOFFSETTO:+0100
TZNAME:CET
END:STANDARD
END:VTIMEZONE
END:VCALENDAR